BEGIN:VCALENDAR
PRODID:NingEventWidget-v1
VERSION:2.0
METHOD:PUBLISH
BEGIN:VTIMEZONE
TZID:America/Los_Angeles
X-LIC-LOCATION:America/Los_Angeles
BEGIN:DAYLIGHT
TZOFFSETFROM:-0800
TZOFFSETTO:-0700
TZNAME:PDT
DTSTART:19700308T020000
RRULE:FREQ=YEARLY;BYMONTH=3;BYDAY=2SU
END:DAYLIGHT
BEGIN:STANDARD
TZOFFSETFROM:-0700
TZOFFSETTO:-0800
TZNAME:PST
DTSTART:19701101T020000
RRULE:FREQ=YEARLY;BYMONTH=11;BYDAY=1SU
END:STANDARD
END:VTIMEZONE
BEGIN:VEVENT
UID:1464587:Event:841623
DTSTAMP:20260419T085734Z
SUMMARY:Juvenile (WIN TICKETS)
DESCRIPTION:ENTER TO WIN A PAIR OF TICKETS. WINNER WILL BE DRAWN RANDO
 MLY AND ANNOUNCED 2 DAYS PRIOR TO EVENT. \r\n\r\nFRIDAY, JUNE 5\r\n J
 uvenile's Boiling Point Album Release Tour with The 400 Degreez Band\r
 \nFox Theater - Oakland, Oakland, CA\r\n 8:00 PM\r\n>> BUY TICKETS\r\n
 \r\n\r\n\n\nFor more information visit https://trueskool.com/events/ju
 venile-1
DTSTART;TZID=America/Los_Angeles:20260605T200000
DTEND;TZID=America/Los_Angeles:20260605T230000
CATEGORIES:"bay area", oakland
LOCATION:Fox Theater, Oakland
WEBSITE:https://www.ticketmaster.com/juveniles-boiling-point-album-rel
 ease-tour-oakland-california-06-05-2026/event/1C00642CE4BCBDA4?camefro
 m=CFC_ANOTHERPLANET_TRUESKOOL&amp;amp;amp;amp;amp;brand=anotherplanet
URL:https://www.ticketmaster.com/juveniles-boiling-point-album-release
 -tour-oakland-california-06-05-2026/event/1C00642CE4BCBDA4?camefrom=CF
 C_ANOTHERPLANET_TRUESKOOL&amp;amp;amp;amp;amp;brand=anotherplanet
CONTACT:
ORGANIZER:Another Planet Entertainment
ATTACH;FMTTYPE="image/jpeg":https://storage.ning.com/topology/rest/1.0
 /file/get/31063002292?profile=original
ATTENDEE;ROLE=REQ-PARTICIPANT;PARTSTAT=ACCEPTED;RSVP=TRUE;CN="Editor's
  Pick":https://trueskool.com/profile/RentheVinylArchaeologist
END:VEVENT
END:VCALENDAR
