BEGIN:VCALENDAR
PRODID:NingEventWidget-v1
VERSION:2.0
METHOD:PUBLISH
BEGIN:VTIMEZONE
TZID:America/Los_Angeles
X-LIC-LOCATION:America/Los_Angeles
BEGIN:DAYLIGHT
TZOFFSETFROM:-0800
TZOFFSETTO:-0700
TZNAME:PDT
DTSTART:19700308T020000
RRULE:FREQ=YEARLY;BYMONTH=3;BYDAY=2SU
END:DAYLIGHT
BEGIN:STANDARD
TZOFFSETFROM:-0700
TZOFFSETTO:-0800
TZNAME:PST
DTSTART:19701101T020000
RRULE:FREQ=YEARLY;BYMONTH=11;BYDAY=1SU
END:STANDARD
END:VTIMEZONE
BEGIN:VEVENT
UID:1464587:Event:64340
DTSTAMP:20260420T095650Z
SUMMARY:Junior Kelly in San Francisco Rokit Rm
DESCRIPTION:Junior Kelly is coming to San Francisco on Sept 7th 2010 t
 o the Rokit Rm. Purchase Tickets at brownpaperticktes.com... 18.00 in 
 advance\nTall dreadlocked Junior Kelly is a devout Rastafarian on a se
 rious musical mission which is manifested through the quality of his c
 ontemplative texts diversity of his substantial subject matter and his
  inspirational delivery born in Kingston 13 junior grew up in nearby S
 panish town throughout his childhood he was surrounded by music His gr
 andfather and father both played the banjo, his mother sang in church 
 and his oldest brothe...r Jim was a popular Deejay [rapper] with Kilam
 anjaro Sound\nThere was a feeling of comfort and security within the f
 amily, despite their poor economic status they were rich in other ways
  \"If it's soup today, we are pleased it is crackers tomorrow, we are 
 still happy,\" says Junior \"because we knew we had each other to lean
  on\"\n\nfamilyjen was plummeted into depression with the murder of ju
 nior oldest brother Jim, a part time caterer Jim was the family's main
  breadwinner and a role model for Junior, Jim regularly practiced his 
 lyrical bowls in the living room, greatly affecting the career of his 
 youngest brother,\n\nAfter Jim's death to support his family Junior fo
 llowed sound systems all over the island just for the opportunity to s
 how their vocal and lyrical talents, he also began auditions for many 
 of the producers comprising Kingston's crowded music circuit, trying t
 o record songs follow their principled Rastafarian lifestyle, he refus
 ed to compromise his lyrical content by writing lewd lyrics and songs 
 disrespecting women\n\nJunior career pace accelerated in slUtete of 19
 95 with appearances at major Jamaican stage shows including Reggae Sun
 splash and Sting as well as shows in several northeastern U.S. cities 
 While in America he also recorded two songs \"Hungry Days\" and \"good
  news\" for Willie Carson's Front Page label, he returned to Jamaica t
 o concentrate on his song writing and met Michael Stanford M Rush Reco
 rds which he recorded several singles, including \"Black Woman\" and \
 "If Love So Nice\"\n\n\"If Love So Nice\" took a detour through Europe
  along the way to the top of the Jamaican charts a position that it fi
 rmly in the 15 weeks making it the longest chart number one tune on th
 e island in 2000\n\n\"If Love So Nice,\" one of, if not the most impre
 ssive reggae influenced Jamaica with a force not upplevt since Hurrica
 ne Gilbert pose a question every man and woman has asked at least once
  in their lives: \"If love so nice tell me why it hurt so bad?\" explo
 it the powerful bass line played by Aston \"Familyman\" Barrett \"on B
 ob Marley's timeless melody\" Stir It Up \"gave\" If Love So Nice, \"a
  familiar underlying although the singer Junior Kelly deliver classic 
 Jamaican deejay mix of precision timing and lovers rock crooning was u
 nknown to most reggae fans\n\nDespite their seemingly sudden rise to s
 uccess, Junior Kelly, also the writer of \"If Love So Nice\" has been 
 diligently working in the music industry since 1985, \"Some say that t
 his is a lucky break, I say no it is the result of hard work, \"explai
 ns the affable itsg-Jay Kelly who cut his first single \"Over Her Body
 \" in 1985 Neco Records \"Some say that the culture of music is a dyin
 g art form, but it is not, you have artists like myself who are trying
  to lift the nation with words, you can live with it is just less atte
 ntion is given to us by radio disc jockeys'\n\nDespite the attention t
 hat \"IF Love So Nice\" has deservingly received Junior Kelly is more 
 than a one hit wonder, A listen to his Jet Star album \"Rise\" and \"J
 uvenile\" not to mention his VP Records debut album with the same name
 , \"If love so nice\"\n\nFor more information visit https://trueskool.
 com/events/junior-kelly-in-san-francisco
DTSTART;TZID=America/Los_Angeles:20100907T210000
DTEND;TZID=America/Los_Angeles:20100908T010000
CATEGORIES:san, francisco, ca
LOCATION:Rokit Room, San Francisco, Ca
WEBSITE:
URL:
CONTACT:916-607-6995
ORGANIZER;CN=Denise:https://trueskool.com/profile/Denise950
ATTACH;FMTTYPE="image/jpeg":http://storage.ning.com/topology/rest/1.0/
 file/get/2247882593?profile=original
ATTENDEE;ROLE=REQ-PARTICIPANT;PARTSTAT=ACCEPTED;RSVP=TRUE;CN=Denise:ht
 tps://trueskool.com/profile/Denise950
END:VEVENT
END:VCALENDAR
