BEGIN:VCALENDAR
PRODID:NingEventWidget-v1
VERSION:2.0
METHOD:PUBLISH
BEGIN:VTIMEZONE
TZID:America/Los_Angeles
X-LIC-LOCATION:America/Los_Angeles
BEGIN:DAYLIGHT
TZOFFSETFROM:-0800
TZOFFSETTO:-0700
TZNAME:PDT
DTSTART:19700308T020000
RRULE:FREQ=YEARLY;BYMONTH=3;BYDAY=2SU
END:DAYLIGHT
BEGIN:STANDARD
TZOFFSETFROM:-0700
TZOFFSETTO:-0800
TZNAME:PST
DTSTART:19701101T020000
RRULE:FREQ=YEARLY;BYMONTH=11;BYDAY=1SU
END:STANDARD
END:VTIMEZONE
BEGIN:VEVENT
UID:1464587:Event:444525
DTSTAMP:20260421T003951Z
SUMMARY:Jungle Brothers and Friends with Special Guest DJ Red Alert [N
 YC]
DESCRIPTION:\nJungle Brothers and Friends with Special Guest DJ Red Al
 ert\n\n\nS.O.B.'s New York, NY\n\nWed, 11/05/14 09:00 PM\n\nSee Ticket
 son TicketWeb\n\n\n\n\n\n\nFor more information visit https://trueskoo
 l.com/events/jungle-brothers-and-friends-with-special-guest-dj-red-ale
 rt-11-5-
DTSTART;TZID=America/Los_Angeles:20141105T210000
DTEND;TZID=America/Los_Angeles:20141105T230000
CATEGORIES:nyc
LOCATION:S.O.B.'s New York, NY
WEBSITE:http://www.ticketmaster.com/partner_redirect?v=8wrAyZ2jSV-sJ16
 X1stRL-IvH7x49DC2uwlZWfvaPBTpZmZfuANvRe1JPv1mClSeQK2RVCOzA-uB9CsesYWvB
 kzOT1fgGntIRWrMH9fsYBe4OVYpHtEFkgaj76Wu0aFDEUT73-qTU_YF5GRVB1m2V_jFC3Q
 hemEIIhwYEYv7VKauQRAH2mqsHsloEoEQXfuPA4v6XEMiaOfLa87fSw&eventid=29004D
 2A38F947D1&artistid=702489&artistname=Jungle%20Brothers%20and%20Friend
 s%20with%20Special%20Guest%20DJ%20Red%20Alert%20featuring&crosssite=TM
 _US:702489:104
URL:http://www.ticketmaster.com/partner_redirect?v=8wrAyZ2jSV-sJ16X1st
 RL-IvH7x49DC2uwlZWfvaPBTpZmZfuANvRe1JPv1mClSeQK2RVCOzA-uB9CsesYWvBkzOT
 1fgGntIRWrMH9fsYBe4OVYpHtEFkgaj76Wu0aFDEUT73-qTU_YF5GRVB1m2V_jFC3QhemE
 IIhwYEYv7VKauQRAH2mqsHsloEoEQXfuPA4v6XEMiaOfLa87fSw&eventid=29004D2A38
 F947D1&artistid=702489&artistname=Jungle%20Brothers%20and%20Friends%20
 with%20Special%20Guest%20DJ%20Red%20Alert%20featuring&crosssite=TM_US:
 702489:104
CONTACT:
ORGANIZER:Editor's Pick
ATTACH;FMTTYPE="image/jpeg":http://storage.ning.com/topology/rest/1.0/
 file/get/2247970387?profile=original
ATTENDEE;ROLE=REQ-PARTICIPANT;PARTSTAT=ACCEPTED;RSVP=TRUE;CN="Ren the 
 Vinyl Archaeologist":https://trueskool.com/profile/xh51jvilojur
END:VEVENT
END:VCALENDAR
