BEGIN:VCALENDAR
PRODID:NingEventWidget-v1
VERSION:2.0
METHOD:PUBLISH
BEGIN:VTIMEZONE
TZID:America/Los_Angeles
X-LIC-LOCATION:America/Los_Angeles
BEGIN:DAYLIGHT
TZOFFSETFROM:-0800
TZOFFSETTO:-0700
TZNAME:PDT
DTSTART:19700308T020000
RRULE:FREQ=YEARLY;BYMONTH=3;BYDAY=2SU
END:DAYLIGHT
BEGIN:STANDARD
TZOFFSETFROM:-0700
TZOFFSETTO:-0800
TZNAME:PST
DTSTART:19701101T020000
RRULE:FREQ=YEARLY;BYMONTH=11;BYDAY=1SU
END:STANDARD
END:VTIMEZONE
BEGIN:VEVENT
UID:1464587:Event:49257
DTSTAMP:20260421T022624Z
SUMMARY:JUNCTION - 90'S SOUL & HIP HOP
DESCRIPTION:ROYALE NITECLUB & BAR & CITY CAT SOUND SYSTEM presents the
  premier monthly Classic 90’s Soul & Hip Hop Get Down for the masses
 . Come socialize, mingle, network and party at one of The City’s bes
 t kept secrets!\n\n\nResident DJ HENROC\n+\nSpecial Guests\n\nStraigth
  90’s Soul & Hip Hop All Nite!\n\n\n\nJUNCTION\n@ Royale North Beach
  Bar\n1326 Grant Ave btwn Vallejo & Green - SF 94133\n10pm Doors\nNO C
 OVER!!\nCasual Dress but Grownup\n\nFor more information visit https:/
 /trueskool.com/events/junction-90s-soul-hip-hop
DTSTART;TZID=America/Los_Angeles:20100410T220000
DTEND;TZID=America/Los_Angeles:20100411T020000
CATEGORIES:"90's", hip, hop, "r&b", reggae
LOCATION:Royale North Beach Bar, San Francisco, CA
WEBSITE:http://www.djhenroc.com
URL:http://www.djhenroc.com
CONTACT:
ORGANIZER;CN="DJ HENROC":https://trueskool.com/profile/DJHENROC
ATTACH;FMTTYPE="image/jpeg":http://storage.ning.com/topology/rest/1.0/
 file/get/2247856887?profile=original
ATTENDEE;ROLE=REQ-PARTICIPANT;PARTSTAT=ACCEPTED;RSVP=TRUE;CN="DJ HENRO
 C":https://trueskool.com/profile/DJHENROC
END:VEVENT
END:VCALENDAR
