BEGIN:VCALENDAR
PRODID:NingEventWidget-v1
VERSION:2.0
METHOD:PUBLISH
BEGIN:VTIMEZONE
TZID:America/Los_Angeles
X-LIC-LOCATION:America/Los_Angeles
BEGIN:DAYLIGHT
TZOFFSETFROM:-0800
TZOFFSETTO:-0700
TZNAME:PDT
DTSTART:19700308T020000
RRULE:FREQ=YEARLY;BYMONTH=3;BYDAY=2SU
END:DAYLIGHT
BEGIN:STANDARD
TZOFFSETFROM:-0700
TZOFFSETTO:-0800
TZNAME:PST
DTSTART:19701101T020000
RRULE:FREQ=YEARLY;BYMONTH=11;BYDAY=1SU
END:STANDARD
END:VTIMEZONE
BEGIN:VEVENT
UID:1464587:Event:31650
DTSTAMP:20260422T031141Z
SUMMARY:JUNCTION
DESCRIPTION:ROYALE NITECLUB & BAR & CITY CAT SOUND SYSTEM presents the
  premier monthly Soul Get Down for the masses. We talkin everything fr
 om SOUL and FUNK to REGGAE and CLASSIC HIP HOP... Come socialize, ming
 le, network and party at one of The City’s best kept secrets!\n\n\nR
 esident DJ HENROC\n+ Special Guest:\nDJ TROUBLE MAN\n\n\n\nJUNCTION\n@
  Royale North Beach Bar\n1326 Grant Ave btwn Vallejo & Green - SF 9413
 3\n10pm Doors\nNO COVER!!\nCasual Dress but Grownup\n\nFor more inform
 ation visit https://trueskool.com/events/junction-1
DTSTART;TZID=America/Los_Angeles:20090912T220000
DTEND;TZID=America/Los_Angeles:20090913T020000
CATEGORIES:soul, "r&b", funk, breaks
LOCATION:Royale North Beach Bar, San Francisco, CA
WEBSITE:http://www.myspace.com/royalenorthbeach
URL:http://www.myspace.com/royalenorthbeach
CONTACT:
ORGANIZER;CN="DJ HENROC":https://trueskool.com/profile/DJHENROC
ATTACH;FMTTYPE="image/jpeg":http://storage.ning.com/topology/rest/1.0/
 file/get/2247856887?profile=original
ATTENDEE;ROLE=REQ-PARTICIPANT;PARTSTAT=ACCEPTED;RSVP=TRUE;CN="DJ HENRO
 C":https://trueskool.com/profile/DJHENROC
END:VEVENT
END:VCALENDAR
