BEGIN:VCALENDAR
PRODID:NingEventWidget-v1
VERSION:2.0
METHOD:PUBLISH
BEGIN:VTIMEZONE
TZID:America/Los_Angeles
X-LIC-LOCATION:America/Los_Angeles
BEGIN:DAYLIGHT
TZOFFSETFROM:-0800
TZOFFSETTO:-0700
TZNAME:PDT
DTSTART:19700308T020000
RRULE:FREQ=YEARLY;BYMONTH=3;BYDAY=2SU
END:DAYLIGHT
BEGIN:STANDARD
TZOFFSETFROM:-0700
TZOFFSETTO:-0800
TZNAME:PST
DTSTART:19701101T020000
RRULE:FREQ=YEARLY;BYMONTH=11;BYDAY=1SU
END:STANDARD
END:VTIMEZONE
BEGIN:VEVENT
UID:1464587:Event:41636
DTSTAMP:20260420T163254Z
SUMMARY:Julian Marley feat. Stephen Marley (Win Tickets)
DESCRIPTION:WIN A PAIR OF TICKETS. Send your FULL NAME to trueskoolcon
 test@gmail.com with \"Marley\" in the Subject Line. Winner will be dra
 wn randomly and announced 3 days prior to the event.\n\n\nWednesday, N
 ovember 11\nJulian Marley feat.\nStephen Marley\nJavaughn\nGully Bank 
 Sound System\n\nThe Independent\n628 Divisadero (btwn Grove & Hayes)\n
 San Francisco CA 94117\ndoors 8:30PM\nshow 9:00PM\nBuy Tickets\n\nTick
 et contest powered by:\nhttp://www.trueskool.com\n\n\n\n\n\n\nFor more
  information visit https://trueskool.com/events/julian-marley-feat-ste
 phen
DTSTART;TZID=America/Los_Angeles:20091111T203000
DTEND;TZID=America/Los_Angeles:20091111T230000
CATEGORIES:reggae, dancehall
LOCATION:THE INDEPENDENT - SAN FRANCISCO, CA
WEBSITE:http://www.apeconcerts.com/popArtist07.cfm?cID=2228
URL:http://www.apeconcerts.com/popArtist07.cfm?cID=2228
CONTACT:
ORGANIZER:Another Planet Entertainment
ATTACH;FMTTYPE="image/jpeg":http://storage.ning.com/topology/rest/1.0/
 file/get/2247866484?profile=original
ATTENDEE;ROLE=REQ-PARTICIPANT;PARTSTAT=ACCEPTED;RSVP=TRUE;CN=Inez:http
 s://trueskool.com/profile/Inez
ATTENDEE;ROLE=REQ-PARTICIPANT;PARTSTAT=ACCEPTED;RSVP=TRUE;CN="Ren the 
 Vinyl Archaeologist":https://trueskool.com/profile/xh51jvilojur
END:VEVENT
END:VCALENDAR
