BEGIN:VCALENDAR
PRODID:NingEventWidget-v1
VERSION:2.0
METHOD:PUBLISH
BEGIN:VTIMEZONE
TZID:America/Los_Angeles
X-LIC-LOCATION:America/Los_Angeles
BEGIN:DAYLIGHT
TZOFFSETFROM:-0800
TZOFFSETTO:-0700
TZNAME:PDT
DTSTART:19700308T020000
RRULE:FREQ=YEARLY;BYMONTH=3;BYDAY=2SU
END:DAYLIGHT
BEGIN:STANDARD
TZOFFSETFROM:-0700
TZOFFSETTO:-0800
TZNAME:PST
DTSTART:19701101T020000
RRULE:FREQ=YEARLY;BYMONTH=11;BYDAY=1SU
END:STANDARD
END:VTIMEZONE
BEGIN:VEVENT
UID:1464587:Event:661530
DTSTAMP:20260422T135757Z
SUMMARY:JUICY (3rd Fridays) w DJ Mark DiVita
DESCRIPTION:Every 3rd Friday JohnColins and SinceEighty6 present Juicy
  a party celebrating Hip-Hop’s roots, past, Golden Era and present t
 hrough fashion and the music selections of DJ Mark DiVita (The Love 
 Movement/BabyPawSound) and monthly Guests. Past guests have included M
 r. Sonny James, DJ Wisdom, HouseShoes, Mind Motion, King Most, Kevvy K
 ev, DJ Henroc, Ry Toast, Sean G, Al Perfecto, DJ Supreme, Banks the DJ
 .\nClassic Breaks, R&B, Soul, Reggae, House and Rap are the standard. 
 Fun is the intent.\nThis Friday join DJ @MarkDiVita and special guest 
 DJs @DJSupreme and as we celebrate another #3rdFriday with #HipHop #St
 rongDrinks and #GoodTimes\n\nFor more information visit https://truesk
 ool.com/events/juicy-3rd-fridays-w-dj-mark-divita-2
DTSTART;TZID=America/Los_Angeles:20170421T220000
DTEND;TZID=America/Los_Angeles:20170422T020000
CATEGORIES:san, francisco, soma, financial, district
LOCATION:John Colins (San Francisco)
WEBSITE:http://johncolins.com/events/juicy/
URL:http://johncolins.com/events/juicy/
CONTACT:
ORGANIZER;CN=JohnColins:https://trueskool.com/profile/JohnColins27
ATTACH;FMTTYPE="image/jpeg":http://storage.ning.com/topology/rest/1.0/
 file/get/2247996785?profile=original
ATTENDEE;ROLE=REQ-PARTICIPANT;PARTSTAT=ACCEPTED;RSVP=TRUE;CN=JohnColin
 s:https://trueskool.com/profile/JohnColins27
END:VEVENT
END:VCALENDAR
