BEGIN:VCALENDAR
PRODID:NingEventWidget-v1
VERSION:2.0
METHOD:PUBLISH
BEGIN:VTIMEZONE
TZID:America/Los_Angeles
X-LIC-LOCATION:America/Los_Angeles
BEGIN:DAYLIGHT
TZOFFSETFROM:-0800
TZOFFSETTO:-0700
TZNAME:PDT
DTSTART:19700308T020000
RRULE:FREQ=YEARLY;BYMONTH=3;BYDAY=2SU
END:DAYLIGHT
BEGIN:STANDARD
TZOFFSETFROM:-0700
TZOFFSETTO:-0800
TZNAME:PST
DTSTART:19701101T020000
RRULE:FREQ=YEARLY;BYMONTH=11;BYDAY=1SU
END:STANDARD
END:VTIMEZONE
BEGIN:VEVENT
UID:1464587:Event:633649
DTSTAMP:20260421T064650Z
SUMMARY:Judah Sun (Mad Skillz Showcase)
DESCRIPTION:\n\nFor more information visit https://trueskool.com/event
 s/judah-sun-mad-skillz-showcase
DTSTART;TZID=America/Los_Angeles:20150731T200000
DTEND;TZID=America/Los_Angeles:20150801T013000
CATEGORIES:san, francsico, bay, area, hip, hop, oakland, rap, undergro
 und
LOCATION:The Showdown
WEBSITE:http://www.showdownsf.com/
URL:http://www.showdownsf.com/
CONTACT:(415) 503-0684
ORGANIZER:Dezz of Da Maddhouze
ATTACH;FMTTYPE="image/jpeg":
ATTENDEE;ROLE=REQ-PARTICIPANT;PARTSTAT=ACCEPTED;RSVP=TRUE;CN="Musik Ma
 niak Promo":https://trueskool.com/profile/MusikManiak
END:VEVENT
END:VCALENDAR
