BEGIN:VCALENDAR
PRODID:NingEventWidget-v1
VERSION:2.0
METHOD:PUBLISH
BEGIN:VTIMEZONE
TZID:America/Los_Angeles
X-LIC-LOCATION:America/Los_Angeles
BEGIN:DAYLIGHT
TZOFFSETFROM:-0800
TZOFFSETTO:-0700
TZNAME:PDT
DTSTART:19700308T020000
RRULE:FREQ=YEARLY;BYMONTH=3;BYDAY=2SU
END:DAYLIGHT
BEGIN:STANDARD
TZOFFSETFROM:-0700
TZOFFSETTO:-0800
TZNAME:PST
DTSTART:19701101T020000
RRULE:FREQ=YEARLY;BYMONTH=11;BYDAY=1SU
END:STANDARD
END:VTIMEZONE
BEGIN:VEVENT
UID:1464587:Event:666330
DTSTAMP:20260421T095017Z
SUMMARY:Juba Kalamka reads at Writers With Drinks!
DESCRIPTION:September's Writers With Drinks is packed with murder and 
 memoir, clockwork empires, hella queer poetry, beautiful wartime stori
 es, and much more!  When: Saturday, Sept. 9, 2017 from 7:30 PM to 9:30
  PM, doors open 6:30 PM Who: Alexandra Marzano-Lesnevich, Juba Kalamka
 , Meredith May, Natasha Dennerstein and Daniel H. Wilson! How much: $5
  to $20, all proceeds benefit the Center for Sex & Culture Where: The 
 Make Out Room, 3225 22nd. St., San Francisco, CA  About the readers/pe
 rformers:  Alexandria Marzano-Lesnevich is the author of The Fact of a
  Body: A Murder and a Memoir, named an Indie Next Pick; one of the mos
 t anticipated books of 2017 by Buzzfeed, BookRiot, and the Huffington 
 Post; a must-read for May by Goodreads, Audible.com, Entertainment Wee
 kly, Real Simple and People; long-listed for the Gordon Burn Prize and
  a finalist for a New England Book Award; and one of the 10 best books
  of the year so far by Entertainment Weekly, Audible.com, and BookRiot
 .   Natasha Dennerstein is the author of two poetry collections, Tript
 ych Caliform and Anatomize. Dennerstein has had poetry published in Fo
 urth Floor, Landfall, Snorkel, JAAM, Takahe, Bloom, Transfer and Red L
 ight Lit, Foglifter, Spoon River Poetry Review, and Sparkle+Blink. She
 's currently on the editorial team of Nomadic Press in Oakland.  Bisex
 ual artist/activist Juba Kalamka is the author of a forthcoming poetry
  collection, Son of Byford, and also plans to release a new solo album
 , Jig School Confidential. He been recognized for his more recent work
  with queer POC performance troupes Sins Invalid and Mangos with Chili
 , as a member of “homohop” group Rainbow Flava, as co-founder/prod
 ucer of Deep Dickollective (D/DC) and creator of the micro-label @Suga
 rtruck Recordings. He has written and for Kitchen Sink, Anything That 
 Moves and Carnal Nation, and served six years as a music columnist, bo
 ok reviewer and feature writer for Colorlines Magazine. He received a 
 2005 Creating Change Conference award from the National LGBTQ Task For
 ce for his activist work in queer music community. He was one of 30 ac
 tivists selected to attend the White House Bisexual Community Briefing
  on Public Policy in September 2015.   Meredith May is an award-winnin
 g journalist and the author of I, Who Did Not Die, which tells the tru
 e story of a 13-year-old Iranian child soldier who secretly nursed an 
 enemy fighter back to life during the brutal Iran-Iraq War.   Daniel H
 . Wilson's latest book is The Clockwork Dynasty. A Cherokee citizen, W
 ilson is the author of the New York Times bestselling Robopocalypse an
 d its sequel Robogenesis, as well as seven other books, including How 
 to Survive a Robot Uprising, A Boy and His Bot, and Amped. He earned a
  PhD in Robotics from Carnegie Mellon University, as well as Masters d
 egrees in Artificial Intelligence and Robotics.\n\nFor more informatio
 n visit https://trueskool.com/events/juba-kalamka-reads-at-writers-wit
 h-drinks
DTSTART;TZID=America/Los_Angeles:20170909T193000
DTEND;TZID=America/Los_Angeles:20170909T213000
CATEGORIES:"san francisco", "bay area", sf, california
LOCATION:The Make Out Room, San Francisco, CA
WEBSITE:http://makeoutroom.com
URL:http://makeoutroom.com
CONTACT:415-647-2888
ORGANIZER;CN="Charlie Jane Anders":https://trueskool.com/profile/Charl
 ieJaneAnders
ATTACH;FMTTYPE="image/jpeg":http://storage.ning.com/topology/rest/1.0/
 file/get/2247999937?profile=original
ATTENDEE;ROLE=REQ-PARTICIPANT;PARTSTAT=ACCEPTED;RSVP=TRUE;CN="Charlie 
 Jane Anders":https://trueskool.com/profile/CharlieJaneAnders
END:VEVENT
END:VCALENDAR
