BEGIN:VCALENDAR
PRODID:NingEventWidget-v1
VERSION:2.0
METHOD:PUBLISH
BEGIN:VTIMEZONE
TZID:America/Los_Angeles
X-LIC-LOCATION:America/Los_Angeles
BEGIN:DAYLIGHT
TZOFFSETFROM:-0800
TZOFFSETTO:-0700
TZNAME:PDT
DTSTART:19700308T020000
RRULE:FREQ=YEARLY;BYMONTH=3;BYDAY=2SU
END:DAYLIGHT
BEGIN:STANDARD
TZOFFSETFROM:-0700
TZOFFSETTO:-0800
TZNAME:PST
DTSTART:19701101T020000
RRULE:FREQ=YEARLY;BYMONTH=11;BYDAY=1SU
END:STANDARD
END:VTIMEZONE
BEGIN:VEVENT
UID:1464587:Event:674326
DTSTAMP:20260421T085252Z
SUMMARY:JOYNER LUCAS
DESCRIPTION:JOYNER LUCAS\r\nwith Eli\r\nFriday, May 25, 2018 Doors: 8:
 00PM |Show: 9:00PM 333 11th St.\r\nSan Francisco, CA 94103 (415) 255-0
 333 SLIM'S\n\nFor more information visit https://trueskool.com/events/
 joyner-lucas
DTSTART;TZID=America/Los_Angeles:20180525T210000
DTEND;TZID=America/Los_Angeles:20180525T230000
CATEGORIES:"bay area", oakland, "san francisco", "san jose", berkeley
LOCATION:Slim's, San Francisco
WEBSITE:https://www.eventbrite.com/e/joyner-lucas-im-kind-of-a-big-dea
 l-tour-slims-w-eli-tickets-44389399890
URL:https://www.eventbrite.com/e/joyner-lucas-im-kind-of-a-big-deal-to
 ur-slims-w-eli-tickets-44389399890
CONTACT:
ORGANIZER;CN="Editor's Pick":https://trueskool.com/profile/RentheVinyl
 Archaeologist
ATTACH;FMTTYPE="image/jpeg":http://storage.ning.com/topology/rest/1.0/
 file/get/2248006600?profile=original
ATTENDEE;ROLE=REQ-PARTICIPANT;PARTSTAT=ACCEPTED;RSVP=TRUE;CN="Editor's
  Pick":https://trueskool.com/profile/RentheVinylArchaeologist
END:VEVENT
END:VCALENDAR
