BEGIN:VCALENDAR
PRODID:NingEventWidget-v1
VERSION:2.0
METHOD:PUBLISH
BEGIN:VTIMEZONE
TZID:America/Los_Angeles
X-LIC-LOCATION:America/Los_Angeles
BEGIN:DAYLIGHT
TZOFFSETFROM:-0800
TZOFFSETTO:-0700
TZNAME:PDT
DTSTART:19700308T020000
RRULE:FREQ=YEARLY;BYMONTH=3;BYDAY=2SU
END:DAYLIGHT
BEGIN:STANDARD
TZOFFSETFROM:-0700
TZOFFSETTO:-0800
TZNAME:PST
DTSTART:19701101T020000
RRULE:FREQ=YEARLY;BYMONTH=11;BYDAY=1SU
END:STANDARD
END:VTIMEZONE
BEGIN:VEVENT
UID:1464587:Event:672206
DTSTAMP:20260421T164249Z
SUMMARY:JOYNER LUCAS & DIZZY WRIGHT
DESCRIPTION:ENTER TO WIN A PAIR OF TICKETS. WINNER WILL BE DRAWN RANDO
 MLY AND ANNOUNCED 2 DAYS PRIOR TO EVENT.\r\n\r\nSunday, January 28, 20
 18\r\nJOYNER LUCAS & DIZZY WRIGHT\r\nwith Marlon Craft, Eli & Reezy\r\
 n @ SLIM'S, SAN FRANCISCO 333 11th St.\r\nSan Francisco, CA 94103 Doo
 rs: 7:00PM |Show: 8:00PM\r\n>> BUY TICKETS\r\n\r\n\r\n\n\nFor more inf
 ormation visit https://trueskool.com/events/joyner-lucas-dizzy-wright
DTSTART;TZID=America/Los_Angeles:20180128T200000
DTEND;TZID=America/Los_Angeles:20180128T230000
CATEGORIES:"bay area", oakland, "san francisco", "san jose", berkeley
LOCATION:Slim's, San Francisco
WEBSITE:http://axs.com/events/347307/joyner-lucas-dizzy-wright-tickets
URL:http://axs.com/events/347307/joyner-lucas-dizzy-wright-tickets
CONTACT:
ORGANIZER:Goldenvoice
ATTACH;FMTTYPE="image/jpeg":http://storage.ning.com/topology/rest/1.0/
 file/get/2248003879?profile=original
ATTENDEE;ROLE=REQ-PARTICIPANT;PARTSTAT=ACCEPTED;RSVP=TRUE;CN="Editor's
  Pick":https://trueskool.com/profile/RentheVinylArchaeologist
END:VEVENT
END:VCALENDAR
