BEGIN:VCALENDAR
PRODID:NingEventWidget-v1
VERSION:2.0
METHOD:PUBLISH
BEGIN:VTIMEZONE
TZID:America/Los_Angeles
X-LIC-LOCATION:America/Los_Angeles
BEGIN:DAYLIGHT
TZOFFSETFROM:-0800
TZOFFSETTO:-0700
TZNAME:PDT
DTSTART:19700308T020000
RRULE:FREQ=YEARLY;BYMONTH=3;BYDAY=2SU
END:DAYLIGHT
BEGIN:STANDARD
TZOFFSETFROM:-0700
TZOFFSETTO:-0800
TZNAME:PST
DTSTART:19701101T020000
RRULE:FREQ=YEARLY;BYMONTH=11;BYDAY=1SU
END:STANDARD
END:VTIMEZONE
BEGIN:VEVENT
UID:1464587:Event:36265
DTSTAMP:20260421T034245Z
SUMMARY:JOURNEY INTO SOUND
DESCRIPTION:This is the official Dj Platurn CD release party.\nMixerfr
 iendly is taking you on a journey into funk, soul, and hip hop and dro
 pping some science on where it all came from.\n\nwith\nDj Platurn\nJ-B
 oogie\nSake One\nZita\nRaashan Ahmad\nAima the Dreamer\n\nWe're also g
 iving out CD's and t-shirts to everyone.\nDon't miss this all-star eve
 nt at an all-star venue.\nFree before 10pm\n\nFor more information vis
 it https://trueskool.com/events/journey-into-sound
DTSTART;TZID=America/Los_Angeles:20090814T210000
DTEND;TZID=America/Los_Angeles:20090815T020000
CATEGORIES:dj, platurn, cd, release, party
LOCATION:Yoshi's SF
WEBSITE:http://www.yoshis.com/sanfrancisco/restaurant
URL:http://www.yoshis.com/sanfrancisco/restaurant
CONTACT:
ORGANIZER;CN=Mixerfriendly:https://trueskool.com/profile/Mixerfriendly
ATTACH;FMTTYPE="image/jpeg":http://storage.ning.com/topology/rest/1.0/
 file/get/2247864450?profile=original
ATTENDEE;ROLE=REQ-PARTICIPANT;PARTSTAT=ACCEPTED;RSVP=TRUE;CN="Muhsin A
 bdul-Musawwir":https://trueskool.com/profile/MuhsinAbdulMusawwir
ATTENDEE;ROLE=REQ-PARTICIPANT;PARTSTAT=ACCEPTED;RSVP=TRUE;CN=Mixerfrie
 ndly:https://trueskool.com/profile/Mixerfriendly
ATTENDEE;ROLE=REQ-PARTICIPANT;PARTSTAT=TENTATIVE;RSVP=TRUE;CN="Ren the
  Vinyl Archaeologist":https://trueskool.com/profile/xh51jvilojur
END:VEVENT
END:VCALENDAR
