BEGIN:VCALENDAR
PRODID:NingEventWidget-v1
VERSION:2.0
METHOD:PUBLISH
BEGIN:VTIMEZONE
TZID:America/Los_Angeles
X-LIC-LOCATION:America/Los_Angeles
BEGIN:DAYLIGHT
TZOFFSETFROM:-0800
TZOFFSETTO:-0700
TZNAME:PDT
DTSTART:19700308T020000
RRULE:FREQ=YEARLY;BYMONTH=3;BYDAY=2SU
END:DAYLIGHT
BEGIN:STANDARD
TZOFFSETFROM:-0700
TZOFFSETTO:-0800
TZNAME:PST
DTSTART:19701101T020000
RRULE:FREQ=YEARLY;BYMONTH=11;BYDAY=1SU
END:STANDARD
END:VTIMEZONE
BEGIN:VEVENT
UID:1464587:Event:672336
DTSTAMP:20260422T181330Z
SUMMARY:Jorja Smith (WIN TICKETS)
DESCRIPTION:ENTER TO WIN A PAIR OF TICKETS. WINNER WILL BE DRAWN RANDO
 MLY AND ANNOUNCED 2 DAYS PRIOR TO EVENT.\r\n \r\n\r\nTuesday, April 24
 , 2018\r\nJORJA SMITH\r\n \r\n THE REGENCY BALLROOM\r\n1300 Van Ness A
 venue\r\n San Francisco, CA 94109\r\n Doors: 8:00PM |Show: 9:00PM\r\n>
 > BUY TICKETS\r\n\r\n\r\n\n\nFor more information visit https://truesk
 ool.com/events/jorja-smith
DTSTART;TZID=America/Los_Angeles:20180424T210000
DTEND;TZID=America/Los_Angeles:20180424T230000
CATEGORIES:"bay area", oakland, "san francisco", "san jose", berkeley
LOCATION:THE REGENCY BALLROOM, SF
WEBSITE:https://www.axs.com/events/347245/jorja-smith-tickets?skin=gol
 denvoice
URL:https://www.axs.com/events/347245/jorja-smith-tickets?skin=goldenv
 oice
CONTACT:
ORGANIZER;CN="Editor's Pick":https://trueskool.com/profile/RentheVinyl
 Archaeologist
ATTACH;FMTTYPE="image/jpeg":http://storage.ning.com/topology/rest/1.0/
 file/get/2248006685?profile=original
ATTENDEE;ROLE=REQ-PARTICIPANT;PARTSTAT=ACCEPTED;RSVP=TRUE;CN="Editor's
  Pick":https://trueskool.com/profile/RentheVinylArchaeologist
END:VEVENT
END:VCALENDAR
