BEGIN:VCALENDAR
PRODID:NingEventWidget-v1
VERSION:2.0
METHOD:PUBLISH
BEGIN:VTIMEZONE
TZID:America/Los_Angeles
X-LIC-LOCATION:America/Los_Angeles
BEGIN:DAYLIGHT
TZOFFSETFROM:-0800
TZOFFSETTO:-0700
TZNAME:PDT
DTSTART:19700308T020000
RRULE:FREQ=YEARLY;BYMONTH=3;BYDAY=2SU
END:DAYLIGHT
BEGIN:STANDARD
TZOFFSETFROM:-0700
TZOFFSETTO:-0800
TZNAME:PST
DTSTART:19701101T020000
RRULE:FREQ=YEARLY;BYMONTH=11;BYDAY=1SU
END:STANDARD
END:VTIMEZONE
BEGIN:VEVENT
UID:1464587:Event:809525
DTSTAMP:20260421T233120Z
SUMMARY:JORJA SMITH
DESCRIPTION:JORJA SMITH\r\nWednesday, August 31, 2022 Doors: 7:00pm | 
 Show: 8:00pm\r\nFox Theater 1807 Telegraph Ave, Oakland, CA  94612\n\n
 For more information visit https://trueskool.com/events/jorja-smith-3
DTSTART;TZID=America/Los_Angeles:20220831T200000
DTEND;TZID=America/Los_Angeles:20220831T233000
CATEGORIES:"bay area", oakland, "san francisco", "san jose", berkeley
LOCATION:Fox Theater, Oakland
WEBSITE:https://www.ticketmaster.com/event/1C005C7CCC107CF4?camefrom=C
 FC_ANOTHERPLANET_web&amp;brand=anotherplanet
URL:https://www.ticketmaster.com/event/1C005C7CCC107CF4?camefrom=CFC_A
 NOTHERPLANET_web&amp;brand=anotherplanet
CONTACT:
ORGANIZER;CN="Editor's Pick":https://trueskool.com/profile/RentheVinyl
 Archaeologist
ATTACH;FMTTYPE="image/jpeg":https://storage.ning.com/topology/rest/1.0
 /file/get/10585629870?profile=original
ATTENDEE;ROLE=REQ-PARTICIPANT;PARTSTAT=ACCEPTED;RSVP=TRUE;CN="Editor's
  Pick":https://trueskool.com/profile/RentheVinylArchaeologist
END:VEVENT
END:VCALENDAR
