BEGIN:VCALENDAR
PRODID:NingEventWidget-v1
VERSION:2.0
METHOD:PUBLISH
BEGIN:VTIMEZONE
TZID:America/Los_Angeles
X-LIC-LOCATION:America/Los_Angeles
BEGIN:DAYLIGHT
TZOFFSETFROM:-0800
TZOFFSETTO:-0700
TZNAME:PDT
DTSTART:19700308T020000
RRULE:FREQ=YEARLY;BYMONTH=3;BYDAY=2SU
END:DAYLIGHT
BEGIN:STANDARD
TZOFFSETFROM:-0700
TZOFFSETTO:-0800
TZNAME:PST
DTSTART:19701101T020000
RRULE:FREQ=YEARLY;BYMONTH=11;BYDAY=1SU
END:STANDARD
END:VTIMEZONE
BEGIN:VEVENT
UID:1464587:Event:678951
DTSTAMP:20260421T111921Z
SUMMARY:JORJA SMITH
DESCRIPTION:ENTER TO WIN A PAIR OF TICKETS. WINNER WILL BE DRAWN RANDO
 MLY AND ANNOUNCED 2 DAYS PRIOR TO EVENT.\r\n\r\nSaturday, November 24,
  2018\r\nJORJA SMITH with Ravyn Lenae \r\nTHE WARFIELD\r\n982 Market S
 treet San Francisco, CA 94102 Doors: 7:00PM |Show: 8:00PM >> BUY TICKE
 TS \n\nFor more information visit https://trueskool.com/events/jorja-s
 mith-2
DTSTART;TZID=America/Los_Angeles:20181124T200000
DTEND;TZID=America/Los_Angeles:20181124T230000
CATEGORIES:"bay area", oakland, "san francisco", "san jose", berkeley
LOCATION:THE WARFIELD, SF
WEBSITE:https://www.axs.com/events/357128/jorja-smith-tickets?skin=gol
 denvoice
URL:https://www.axs.com/events/357128/jorja-smith-tickets?skin=goldenv
 oice
CONTACT:
ORGANIZER;CN="Editor's Pick":https://trueskool.com/profile/RentheVinyl
 Archaeologist
ATTACH;FMTTYPE="image/jpeg":http://storage.ning.com/topology/rest/1.0/
 file/get/2248008241?profile=original
ATTENDEE;ROLE=REQ-PARTICIPANT;PARTSTAT=ACCEPTED;RSVP=TRUE;CN="Editor's
  Pick":https://trueskool.com/profile/RentheVinylArchaeologist
END:VEVENT
END:VCALENDAR
