BEGIN:VCALENDAR
PRODID:NingEventWidget-v1
VERSION:2.0
METHOD:PUBLISH
BEGIN:VTIMEZONE
TZID:America/Los_Angeles
X-LIC-LOCATION:America/Los_Angeles
BEGIN:DAYLIGHT
TZOFFSETFROM:-0800
TZOFFSETTO:-0700
TZNAME:PDT
DTSTART:19700308T020000
RRULE:FREQ=YEARLY;BYMONTH=3;BYDAY=2SU
END:DAYLIGHT
BEGIN:STANDARD
TZOFFSETFROM:-0700
TZOFFSETTO:-0800
TZNAME:PST
DTSTART:19701101T020000
RRULE:FREQ=YEARLY;BYMONTH=11;BYDAY=1SU
END:STANDARD
END:VTIMEZONE
BEGIN:VEVENT
UID:1464587:Event:661083
DTSTAMP:20260422T014913Z
SUMMARY:Jon B
DESCRIPTION:Noted songwriter & producer:\nJON B\nSat, May 13, 2017 Doo
 rs: 7:00 PM / Show: 7:30 PM Yoshi's Oakland Oakland, CA $39.00 - $69.0
 0\nSat, May 13, 2017\nDoors: 9:15 PM / Show: 9:30 PM\nYoshi's Oaklan
 d\nOakland, CA\n$39.00\n\nSun, May 14, 2017 Doors: 6:30 PM / Show: 7:0
 0 PM Yoshi's Oakland Oakland, CA $36.00 - $69.00\nSun, May 14, 2017 Do
 ors: 8:45 PM / Show: 9:00 PM Yoshi's Oakland Oakland, CA $36.00\n\n\n\
 nFor more information visit https://trueskool.com/events/jon-b-3
DTSTART;TZID=America/Los_Angeles:20170513T193000
DTEND;TZID=America/Los_Angeles:20170514T230000
CATEGORIES:"san francisco", oakland, berkley, "san jose", "bay area"
LOCATION:Yoshi's, Oakland
WEBSITE:http://www.yoshis.com/search/?q=JON%20B
URL:http://www.yoshis.com/search/?q=JON%20B
CONTACT:
ORGANIZER;CN="Editor's Pick":https://trueskool.com/profile/RentheVinyl
 Archaeologist
ATTACH;FMTTYPE="image/jpeg":http://storage.ning.com/topology/rest/1.0/
 file/get/2248005604?profile=original
ATTENDEE;ROLE=REQ-PARTICIPANT;PARTSTAT=ACCEPTED;RSVP=TRUE;CN="Editor's
  Pick":https://trueskool.com/profile/RentheVinylArchaeologist
END:VEVENT
END:VCALENDAR
