BEGIN:VCALENDAR
PRODID:NingEventWidget-v1
VERSION:2.0
METHOD:PUBLISH
BEGIN:VTIMEZONE
TZID:America/Los_Angeles
X-LIC-LOCATION:America/Los_Angeles
BEGIN:DAYLIGHT
TZOFFSETFROM:-0800
TZOFFSETTO:-0700
TZNAME:PDT
DTSTART:19700308T020000
RRULE:FREQ=YEARLY;BYMONTH=3;BYDAY=2SU
END:DAYLIGHT
BEGIN:STANDARD
TZOFFSETFROM:-0700
TZOFFSETTO:-0800
TZNAME:PST
DTSTART:19701101T020000
RRULE:FREQ=YEARLY;BYMONTH=11;BYDAY=1SU
END:STANDARD
END:VTIMEZONE
BEGIN:VEVENT
UID:1464587:Event:32762
DTSTAMP:20260421T050830Z
SUMMARY:John Legend with India.Arie and Vaughn Anthony
DESCRIPTION:John Legend with India.Arie and Vaughn Anthony\n\nSunday S
 eptember 6th, 2009.\nThe Greek Theatre\n\nHearst St & Gayley St, Berke
 ley- Doors at 6:30p\n\nFor more information visit https://trueskool.co
 m/events/john-legend-with-indiaarie-and
DTSTART;TZID=America/Los_Angeles:20090906T183000
DTEND;TZID=America/Los_Angeles:20090906T230000
CATEGORIES:soul, "r&b"
LOCATION:The Greek Theatre, Berkeley, CA
WEBSITE:http://www.ticketmaster.com/promo/puds2l?brand=anotherplanet
URL:http://www.ticketmaster.com/promo/puds2l?brand=anotherplanet
CONTACT:
ORGANIZER:Another Planet Ent.
ATTACH;FMTTYPE="image/jpeg":http://storage.ning.com/topology/rest/1.0/
 file/get/2247858313?profile=original
ATTENDEE;ROLE=REQ-PARTICIPANT;PARTSTAT=ACCEPTED;RSVP=TRUE;CN="Ren the 
 Vinyl Archaeologist":https://trueskool.com/profile/xh51jvilojur
END:VEVENT
END:VCALENDAR
