BEGIN:VCALENDAR
PRODID:NingEventWidget-v1
VERSION:2.0
METHOD:PUBLISH
BEGIN:VTIMEZONE
TZID:America/Los_Angeles
X-LIC-LOCATION:America/Los_Angeles
BEGIN:DAYLIGHT
TZOFFSETFROM:-0800
TZOFFSETTO:-0700
TZNAME:PDT
DTSTART:19700308T020000
RRULE:FREQ=YEARLY;BYMONTH=3;BYDAY=2SU
END:DAYLIGHT
BEGIN:STANDARD
TZOFFSETFROM:-0700
TZOFFSETTO:-0800
TZNAME:PST
DTSTART:19701101T020000
RRULE:FREQ=YEARLY;BYMONTH=11;BYDAY=1SU
END:STANDARD
END:VTIMEZONE
BEGIN:VEVENT
UID:1464587:Event:678546
DTSTAMP:20260421T080208Z
SUMMARY:JOHN LEGEND
DESCRIPTION:Two Nights! A Legendary Christmas\r\nJOHN LEGEND Fox Theat
 er Oakland, CA\r\n Friday, December 21, 2018 Doors: 7:00pm | Show: 8:0
 0pm\r\nSaturday, December 22, 2018 Doors: 7:00pm | Show: 8:00pm\r\n$24
 9.50 – Reserved Seating $199.50 – Reserved Seating $149.50 – Res
 erved Seating $129.50 – Reserved Seating $99.50 – Reserved Seating
  $79.50 – Reserved Seating\r\n*plus applicable service fees\r\nPresa
 le begins Thursday, October 4th at 10am! (password = figpoe)\r\nThe ge
 neral on sale begins Friday, October 5th at 10am.\r\nPlease note that 
 presale tickets are only available online.\r\nTickets are also availab
 le service charge free at The Fox Theater’s Box Office (located on t
 he 19th street side of the theater) on show dates and on Fridays from 
 noon – 7:00pm.\r\nGet a copy of John Legend’s new album with every
  ticket!\r\nIncluded with every pair of tickets purchased online is a 
 standard copy of John Legend’s forthcoming album A Legendary Christm
 as. Please allow 7-10 days for delivery once the album becomes availab
 le.\r\nPlease note: Album must be redeemed by 11/29. Valid for U.S. re
 sidents only. Not valid for tickets purchased via resale.\r\nFor an ad
 ditional $50.00, you can opt in to upgrade your experience to include 
 access to the exclusive Telegraph Room before, during and after the sh
 ow!\r\nJoin us at The Den one hour before doors for food & drinks!\r\n
 All doors & show times subject to change.\n\nFor more information visi
 t https://trueskool.com/events/john-legend-3
DTSTART;TZID=America/Los_Angeles:20181221T200000
DTEND;TZID=America/Los_Angeles:20181222T230000
CATEGORIES:"bay area", oakland, "san francisco", "san jose", berkeley
LOCATION:Fox Theater, Oakland
WEBSITE:https://www.ticketmaster.com/john-legend-oakland-california-12
 -22-2018/event/1C00553CA57A98D9?camefrom=CFC_ANOTHERPLANET_web&amp;bra
 nd=anotherplanet
URL:https://www.ticketmaster.com/john-legend-oakland-california-12-22-
 2018/event/1C00553CA57A98D9?camefrom=CFC_ANOTHERPLANET_web&amp;brand=a
 notherplanet
CONTACT:
ORGANIZER;CN="Editor's Pick":https://trueskool.com/profile/RentheVinyl
 Archaeologist
ATTACH;FMTTYPE="image/jpeg":http://storage.ning.com/topology/rest/1.0/
 file/get/2248009911?profile=original
ATTENDEE;ROLE=REQ-PARTICIPANT;PARTSTAT=ACCEPTED;RSVP=TRUE;CN="Editor's
  Pick":https://trueskool.com/profile/RentheVinylArchaeologist
END:VEVENT
END:VCALENDAR
