BEGIN:VCALENDAR
PRODID:NingEventWidget-v1
VERSION:2.0
METHOD:PUBLISH
BEGIN:VTIMEZONE
TZID:America/Los_Angeles
X-LIC-LOCATION:America/Los_Angeles
BEGIN:DAYLIGHT
TZOFFSETFROM:-0800
TZOFFSETTO:-0700
TZNAME:PDT
DTSTART:19700308T020000
RRULE:FREQ=YEARLY;BYMONTH=3;BYDAY=2SU
END:DAYLIGHT
BEGIN:STANDARD
TZOFFSETFROM:-0700
TZOFFSETTO:-0800
TZNAME:PST
DTSTART:19701101T020000
RRULE:FREQ=YEARLY;BYMONTH=11;BYDAY=1SU
END:STANDARD
END:VTIMEZONE
BEGIN:VEVENT
UID:1464587:Event:627824
DTSTAMP:20260422T110548Z
SUMMARY:Joey Bada$$ (WIN TICKETS)
DESCRIPTION:ENTER TO WIN A PAIR OF TICKETS. WINNER WILL BE DRAWN RANDO
 MLY AND ANNOUNCED 2 DAYS PRIOR TO EVENT.\n Wed, Jun 17, 2015 Joey Bada
 $$ World Domination 2015 World Tour Mick Jenkins, Denzel Curry\nThe Re
 gency Ballroom 1300 Van Ness Avenue San Francisco, CA 94109 Ages: All 
 Ages Doors Open: 7:00PM. Show: 8:00PM Starting from: $22.50 Door Price
 : $25.00 \n\nFor more information visit https://trueskool.com/events/j
 oey-bada-win-tickets
DTSTART;TZID=America/Los_Angeles:20150617T190000
DTEND;TZID=America/Los_Angeles:20150617T230000
CATEGORIES:"bay area", "san francisco"
LOCATION:Regency Ballroom, San Francisco
WEBSITE:http://www.axs.com/events/277882/joey-bada-tickets?CID=REG_Joe
 yBad_TrueSkool
URL:http://www.axs.com/events/277882/joey-bada-tickets?CID=REG_JoeyBad
 _TrueSkool
CONTACT:
ORGANIZER:Goldenvoice
ATTACH;FMTTYPE="image/jpeg":http://storage.ning.com/topology/rest/1.0/
 file/get/2247976224?profile=original
ATTENDEE;ROLE=REQ-PARTICIPANT;PARTSTAT=ACCEPTED;RSVP=TRUE;CN=DaLYT:htt
 ps://trueskool.com/profile/DaLYT
ATTENDEE;ROLE=REQ-PARTICIPANT;PARTSTAT=ACCEPTED;RSVP=TRUE;CN="Art Barr
 on":https://trueskool.com/profile/ArtBarron593
ATTENDEE;ROLE=REQ-PARTICIPANT;PARTSTAT=ACCEPTED;RSVP=TRUE;CN="Elisa Bj
 eldanes":https://trueskool.com/profile/ElisaBjeldanes
ATTENDEE;ROLE=REQ-PARTICIPANT;PARTSTAT=ACCEPTED;RSVP=TRUE;CN="Johnny L
 iao":https://trueskool.com/profile/JohnnyLiao
ATTENDEE;ROLE=REQ-PARTICIPANT;PARTSTAT=ACCEPTED;RSVP=TRUE;CN="Editor's
  Pick":https://trueskool.com/profile/RentheVinylArchaeologist
ATTENDEE;ROLE=REQ-PARTICIPANT;PARTSTAT=TENTATIVE;RSVP=TRUE;CN=Kimberly
 :https://trueskool.com/profile/Kimberly
END:VEVENT
END:VCALENDAR
