BEGIN:VCALENDAR
PRODID:NingEventWidget-v1
VERSION:2.0
METHOD:PUBLISH
BEGIN:VTIMEZONE
TZID:America/Los_Angeles
X-LIC-LOCATION:America/Los_Angeles
BEGIN:DAYLIGHT
TZOFFSETFROM:-0800
TZOFFSETTO:-0700
TZNAME:PDT
DTSTART:19700308T020000
RRULE:FREQ=YEARLY;BYMONTH=3;BYDAY=2SU
END:DAYLIGHT
BEGIN:STANDARD
TZOFFSETFROM:-0700
TZOFFSETTO:-0800
TZNAME:PST
DTSTART:19701101T020000
RRULE:FREQ=YEARLY;BYMONTH=11;BYDAY=1SU
END:STANDARD
END:VTIMEZONE
BEGIN:VEVENT
UID:1464587:Event:178248
DTSTAMP:20260423T002007Z
SUMMARY:Joey Bada$$ (New York)
DESCRIPTION:\n\nJoey Bada$$ and Pro Era plus Flatbush Zombies / The Un
 derachievers\nGramercy Theatre, New York, NY\nSat, Apr 20, 2013 07
 :00 PM\nDetails: Joey Bada$$, Pro Era, Flatbush Zombies, The Under
 achievers, Statik Selektah\n\nFor more information visit https://true
 skool.com/events/joey-bada-new-york
DTSTART;TZID=America/Los_Angeles:20130420T190000
DTEND;TZID=America/Los_Angeles:20130420T230000
CATEGORIES:"new york", nyc
LOCATION:Gramercy Theatre, New York, New York
WEBSITE:http://www.ticketmaster.com/partner_redirect?v=nx5bR2cuypw5Lgd
 VGmI3KJ7MV0GpKliaxqPoRZj-rfyAdUba-avF255XuETHiCE7SYj_juutiAazmSefzFvzu
 tG5_6wj9Q9L6f9BlQhVJQnuVrFhfRccYAImMN-n1IKDKKvl0w&eventid=00004A523EEB
 D622&artistid=1741337&artistname=Joey%20Bada$$%20and%20Pro%20Era%20plu
 s%20Flatbush%20Zombies%20/%20The%20Underachievers&crosssite=TM_US:1741
 337:107
URL:http://www.ticketmaster.com/partner_redirect?v=nx5bR2cuypw5LgdVGmI
 3KJ7MV0GpKliaxqPoRZj-rfyAdUba-avF255XuETHiCE7SYj_juutiAazmSefzFvzutG5_
 6wj9Q9L6f9BlQhVJQnuVrFhfRccYAImMN-n1IKDKKvl0w&eventid=00004A523EEBD622
 &artistid=1741337&artistname=Joey%20Bada$$%20and%20Pro%20Era%20plus%20
 Flatbush%20Zombies%20/%20The%20Underachievers&crosssite=TM_US:1741337:
 107
CONTACT:
ORGANIZER;CN="Editor's Pick":https://trueskool.com/profile/RentheVinyl
 Archaeologist
ATTACH;FMTTYPE="image/jpeg":http://storage.ning.com/topology/rest/1.0/
 file/get/2247936191?profile=original
ATTENDEE;ROLE=REQ-PARTICIPANT;PARTSTAT=ACCEPTED;RSVP=TRUE;CN="Editor's
  Pick":https://trueskool.com/profile/RentheVinylArchaeologist
END:VEVENT
END:VCALENDAR
