BEGIN:VCALENDAR
PRODID:NingEventWidget-v1
VERSION:2.0
METHOD:PUBLISH
BEGIN:VTIMEZONE
TZID:America/Los_Angeles
X-LIC-LOCATION:America/Los_Angeles
BEGIN:DAYLIGHT
TZOFFSETFROM:-0800
TZOFFSETTO:-0700
TZNAME:PDT
DTSTART:19700308T020000
RRULE:FREQ=YEARLY;BYMONTH=3;BYDAY=2SU
END:DAYLIGHT
BEGIN:STANDARD
TZOFFSETFROM:-0700
TZOFFSETTO:-0800
TZNAME:PST
DTSTART:19701101T020000
RRULE:FREQ=YEARLY;BYMONTH=11;BYDAY=1SU
END:STANDARD
END:VTIMEZONE
BEGIN:VEVENT
UID:1464587:Event:444417
DTSTAMP:20260421T003857Z
SUMMARY:Joey Bada$$ - B4.DA.$$ North American Tour [NYC]
DESCRIPTION:\nJoey Bada$$ - B4.DA.$$ North American Tour\n\n\n\n\nIrvi
 ng Plaza New York, NY\n\nSat, 11/08/14 05:30 PM\n\nSee Ticketson Live 
 Nation\n\n\n\n\n\n\nFor more information visit https://trueskool.com/e
 vents/joey-bada-b4-da-north-american-tour-nyc-11-8
DTSTART;TZID=America/Los_Angeles:20141108T173000
DTEND;TZID=America/Los_Angeles:20141108T220000
CATEGORIES:nyc
LOCATION:Irving Plaza New York, NY
WEBSITE:http://www.ticketmaster.com/partner_redirect?v=T_nTtKvFGxoMA5v
 W_HTOXo77t3JbD2Qapoukv0bRBoLk8KmsePA0gNYy6h_w90-mFbBswszgVmZhMAnaRjFwn
 f0iAq0Bqv1yq6wrC4844aav4iaNdy1r7CiEBKX3dJfIbD05hw&eventid=00004D0CFBFD
 96CD&artistid=1741337&artistname=Joey%20Bada$$%20-%20B4.DA.$$%20North%
 20American%20Tour&crosssite=TM_US:1741337:47&tm_link=browse_msg-0_0000
 4D0CFBFD96CD
URL:http://www.ticketmaster.com/partner_redirect?v=T_nTtKvFGxoMA5vW_HT
 OXo77t3JbD2Qapoukv0bRBoLk8KmsePA0gNYy6h_w90-mFbBswszgVmZhMAnaRjFwnf0iA
 q0Bqv1yq6wrC4844aav4iaNdy1r7CiEBKX3dJfIbD05hw&eventid=00004D0CFBFD96CD
 &artistid=1741337&artistname=Joey%20Bada$$%20-%20B4.DA.$$%20North%20Am
 erican%20Tour&crosssite=TM_US:1741337:47&tm_link=browse_msg-0_00004D0C
 FBFD96CD
CONTACT:
ORGANIZER:Editor's Pick
ATTACH;FMTTYPE="image/jpeg":http://storage.ning.com/topology/rest/1.0/
 file/get/2247968944?profile=original
ATTENDEE;ROLE=REQ-PARTICIPANT;PARTSTAT=ACCEPTED;RSVP=TRUE;CN="Ren the 
 Vinyl Archaeologist":https://trueskool.com/profile/xh51jvilojur
END:VEVENT
END:VCALENDAR
