BEGIN:VCALENDAR
PRODID:NingEventWidget-v1
VERSION:2.0
METHOD:PUBLISH
BEGIN:VTIMEZONE
TZID:America/Los_Angeles
X-LIC-LOCATION:America/Los_Angeles
BEGIN:DAYLIGHT
TZOFFSETFROM:-0800
TZOFFSETTO:-0700
TZNAME:PDT
DTSTART:19700308T020000
RRULE:FREQ=YEARLY;BYMONTH=3;BYDAY=2SU
END:DAYLIGHT
BEGIN:STANDARD
TZOFFSETFROM:-0700
TZOFFSETTO:-0800
TZNAME:PST
DTSTART:19701101T020000
RRULE:FREQ=YEARLY;BYMONTH=11;BYDAY=1SU
END:STANDARD
END:VTIMEZONE
BEGIN:VEVENT
UID:1464587:Event:68960
DTSTAMP:20260420T163125Z
SUMMARY:JOELL ORTIZ
DESCRIPTION:\nTue-Nov 09\nSOBS PRESENTS\nJOELL ORTIZ\n& SPECIAL GUESTS
 \n\nSOB's, 204 Varick St, New York, NY 10014\nDoors Open @ 7:00pm. Sho
 w Starts @ 9:00pm. Tickets are $25 in Advance and can be purchased @ T
 icketweb.com\n\nThe Free Agent, Joell Ortiz, Returns to SOB's November
  9th.\n\nBuzz worthy Hip-Hop artist Joell Ortiz brings a true inside v
 iew of life in the projects of New York City without adding glitz and 
 glam to the rough life led by the people who inhabit the city. Critica
 lly acclaimed, the emcee returns to one of his favorite spots, SOB's f
 or a night of true hip hop.\n\nOrtiz released his debut album, The Bri
 ck (Bodega Chronicles), in 2007 on E1 Music. The album centered on his
  dense, rhyme-based work, and featured notable collaborations with SOB
 's alumni Styles P, Akon and the legendary Big Daddy Kane. The Brick w
 as met with considerable critical acclaim, landing Ortiz features in n
 umerous hip-hop and mainstream publications including a much sought af
 ter “Leader of the New School” cover story for XXL Magazine, along
  with Papoose, Crooked I, Saigon, Lupe Fiasco and others.\n\nSoldierin
 g on, Ortiz is currently working on his eagerly anticipated follow-up 
 \"Free Agent\". He will preview some of the albums songs as well as an
  array of material from his previous releases.\n\nWWW.JOELLORTIZ.COM\n
 \n \n\nFor more information visit https://trueskool.com/events/joell-o
 rtiz
DTSTART;TZID=America/Los_Angeles:20101109T190000
DTEND;TZID=America/Los_Angeles:20101110T230000
CATEGORIES:new, york, ny
LOCATION:SOB's, New York, NY
WEBSITE:http://www.sobs.com
URL:http://www.sobs.com
CONTACT:
ORGANIZER:SOB's
ATTACH;FMTTYPE="image/jpeg":http://storage.ning.com/topology/rest/1.0/
 file/get/2247885618?profile=original
ATTENDEE;ROLE=REQ-PARTICIPANT;PARTSTAT=ACCEPTED;RSVP=TRUE;CN="Editor's
  Pick":https://trueskool.com/profile/RentheVinylArchaeologist
END:VEVENT
END:VCALENDAR
