BEGIN:VCALENDAR
PRODID:NingEventWidget-v1
VERSION:2.0
METHOD:PUBLISH
BEGIN:VTIMEZONE
TZID:America/Los_Angeles
X-LIC-LOCATION:America/Los_Angeles
BEGIN:DAYLIGHT
TZOFFSETFROM:-0800
TZOFFSETTO:-0700
TZNAME:PDT
DTSTART:19700308T020000
RRULE:FREQ=YEARLY;BYMONTH=3;BYDAY=2SU
END:DAYLIGHT
BEGIN:STANDARD
TZOFFSETFROM:-0700
TZOFFSETTO:-0800
TZNAME:PST
DTSTART:19701101T020000
RRULE:FREQ=YEARLY;BYMONTH=11;BYDAY=1SU
END:STANDARD
END:VTIMEZONE
BEGIN:VEVENT
UID:1464587:Event:68826
DTSTAMP:20260420T130456Z
SUMMARY:Jody Watley
DESCRIPTION:CLICK HERE TO WIN A PAIR OF TICKETS:\nhttp://www.trueskool
 .com/group/wintickets\n\n\nSATURDAY, NOVEMBER 6\nJody Watley\n\nGrammy
 ® Award Winning Artist Jody Watley \"Celebrates 3 Decades in The Mix\
 "\n\nYoshi's San Francisco\n1330 Fillmore Street\nSan Francisco, CA 94
 115\n8PM Show: $36\n10PM: $28\n» BUY TICKETS\n\nGrammy® Award Winnin
 g Artist Jody Watley brings her dynamic live show to Yoshi's for an in
 timate night of hits and new music. With an amazing 32 Top Ten Singles
  and 13 No. 1 Singles in the R&B, Pop and Dance, music genres over the
  past three decades – including such classics as “Looking For A Ne
 w Love,” “Don’t You Want Me” and her groundbreaking collaborat
 ion with Eric B and Rakim on “Friends” – the singer-songwriter h
 as consistently broken new ground in music, video and fashion. It seem
 s there's no slowing down for this lady.\n\nJody Watley's 10th studio 
 album 'CHAMELEON\", her first album of original material since 2001's 
 critically acclaimed electronic jazz opus \"Midnight Lounge\" is sched
 uled to be released in 2011.\n\n \n\nFor more information visit https:
 //trueskool.com/events/jody-watley
DTSTART;TZID=America/Los_Angeles:20101106T200000
DTEND;TZID=America/Los_Angeles:20101107T000000
CATEGORIES:san, francisco, ca, bay, area
LOCATION:Yoshi's, San Francisco, CA
WEBSITE:
URL:
CONTACT:
ORGANIZER:Yoshi's
ATTACH;FMTTYPE="image/jpeg":http://storage.ning.com/topology/rest/1.0/
 file/get/2247885427?profile=original
ATTENDEE;ROLE=REQ-PARTICIPANT;PARTSTAT=ACCEPTED;RSVP=TRUE;CN="Ren the 
 Vinyl Archaeologist":https://trueskool.com/profile/xh51jvilojur
END:VEVENT
END:VCALENDAR
