BEGIN:VCALENDAR
PRODID:NingEventWidget-v1
VERSION:2.0
METHOD:PUBLISH
BEGIN:VTIMEZONE
TZID:America/Los_Angeles
X-LIC-LOCATION:America/Los_Angeles
BEGIN:DAYLIGHT
TZOFFSETFROM:-0800
TZOFFSETTO:-0700
TZNAME:PDT
DTSTART:19700308T020000
RRULE:FREQ=YEARLY;BYMONTH=3;BYDAY=2SU
END:DAYLIGHT
BEGIN:STANDARD
TZOFFSETFROM:-0700
TZOFFSETTO:-0800
TZNAME:PST
DTSTART:19701101T020000
RRULE:FREQ=YEARLY;BYMONTH=11;BYDAY=1SU
END:STANDARD
END:VTIMEZONE
BEGIN:VEVENT
UID:1464587:Event:464728
DTSTAMP:20260421T051339Z
SUMMARY:\"Jive Turkey\" VIP Party w/ Dirt Nasty
DESCRIPTION:\n\nFor more information visit https://trueskool.com/event
 s/jive-turkey-vip-party-w-dirt-nasty
DTSTART;TZID=America/Los_Angeles:20141126T210000
DTEND;TZID=America/Los_Angeles:20141127T020000
CATEGORIES:"dragon rouge", -, eastbay, waterfront, "dirt nasty"
LOCATION:Dragon Rouge Alameda Ca
WEBSITE:http://www.eventbrite.com/e/dirt-nasty-simon-rex-live-dragon-r
 ouge-alameda-ca-sf-bay-area-tickets-9822133265?aff=ehomesaved
URL:http://www.eventbrite.com/e/dirt-nasty-simon-rex-live-dragon-rouge
 -alameda-ca-sf-bay-area-tickets-9822133265?aff=ehomesaved
CONTACT:510-521-1800
ORGANIZER:Dragon Rouge
ATTACH;FMTTYPE="image/jpeg":http://storage.ning.com/topology/rest/1.0/
 file/get/2247971075?profile=original
ATTENDEE;ROLE=REQ-PARTICIPANT;PARTSTAT=ACCEPTED;RSVP=TRUE;CN="Dan Nguy
 en":https://trueskool.com/profile/DanNguyen
END:VEVENT
END:VCALENDAR
