BEGIN:VCALENDAR
PRODID:NingEventWidget-v1
VERSION:2.0
METHOD:PUBLISH
BEGIN:VTIMEZONE
TZID:America/Los_Angeles
X-LIC-LOCATION:America/Los_Angeles
BEGIN:DAYLIGHT
TZOFFSETFROM:-0800
TZOFFSETTO:-0700
TZNAME:PDT
DTSTART:19700308T020000
RRULE:FREQ=YEARLY;BYMONTH=3;BYDAY=2SU
END:DAYLIGHT
BEGIN:STANDARD
TZOFFSETFROM:-0700
TZOFFSETTO:-0800
TZNAME:PST
DTSTART:19701101T020000
RRULE:FREQ=YEARLY;BYMONTH=11;BYDAY=1SU
END:STANDARD
END:VTIMEZONE
BEGIN:VEVENT
UID:1464587:Event:63391
DTSTAMP:20260420T230204Z
SUMMARY:Jimmy Cliff
DESCRIPTION:\nOutside Lands Night Show\nJimmy Cliff\nRevival Sound Sys
 tem\n\nMezzanine, 444 Jessie Street, San Francisco CA 94103\nshow 9:00
 PM\n$40.00 - General Admission\nBuy Tickets\n\n\nFor more information 
 visit https://trueskool.com/events/jimmy-cliff
DTSTART;TZID=America/Los_Angeles:20100813T210000
DTEND;TZID=America/Los_Angeles:20100814T020000
CATEGORIES:bay, area, san, francisco
LOCATION:Mezzanine, San Francisco, CA
WEBSITE:http://www.ticketmaster.com/event/1C0044E9E8897F09&camefrom=CF
 C_ANOTHERPLANET
URL:http://www.ticketmaster.com/event/1C0044E9E8897F09&camefrom=CFC_AN
 OTHERPLANET
CONTACT:
ORGANIZER:Another Planet Entertainment
ATTACH;FMTTYPE="image/jpeg":http://storage.ning.com/topology/rest/1.0/
 file/get/2247883004?profile=original
ATTENDEE;ROLE=REQ-PARTICIPANT;PARTSTAT=ACCEPTED;RSVP=TRUE;CN="Ren the 
 Vinyl Archaeologist":https://trueskool.com/profile/xh51jvilojur
END:VEVENT
END:VCALENDAR
