BEGIN:VCALENDAR
PRODID:NingEventWidget-v1
VERSION:2.0
METHOD:PUBLISH
BEGIN:VTIMEZONE
TZID:America/Los_Angeles
X-LIC-LOCATION:America/Los_Angeles
BEGIN:DAYLIGHT
TZOFFSETFROM:-0800
TZOFFSETTO:-0700
TZNAME:PDT
DTSTART:19700308T020000
RRULE:FREQ=YEARLY;BYMONTH=3;BYDAY=2SU
END:DAYLIGHT
BEGIN:STANDARD
TZOFFSETFROM:-0700
TZOFFSETTO:-0800
TZNAME:PST
DTSTART:19701101T020000
RRULE:FREQ=YEARLY;BYMONTH=11;BYDAY=1SU
END:STANDARD
END:VTIMEZONE
BEGIN:VEVENT
UID:1464587:Event:178189
DTSTAMP:20260423T031522Z
SUMMARY:Jesse Boykins III with Rare Acoustic Performance By Yahzarah (
 New York)
DESCRIPTION:\n\nJesse Boykins III with Rare Acoustic Performance By Ya
 hzarah \nThursday, Mar 21, 2013 9:00 PM EDT (7:30 PM Doors)S.O.B.'s,
  New York, NY18 years and over\n\nFor more information visit https:/
 /trueskool.com/events/jesse-boykins-iii-with-rare-acoustic-performance
 -by-yahzarah-new-
DTSTART;TZID=America/Los_Angeles:20130321T210000
DTEND;TZID=America/Los_Angeles:20130321T230000
CATEGORIES:"new york", nyc
LOCATION:S.O.B.'s , N.Y.
WEBSITE:http://www.ticketmaster.com/Jesse-Boykins-III-with-Rare-Acoust
 ic-Performance-By-Yahzarah-tickets/artist/1841546
URL:http://www.ticketmaster.com/Jesse-Boykins-III-with-Rare-Acoustic-P
 erformance-By-Yahzarah-tickets/artist/1841546
CONTACT:
ORGANIZER;CN="Editor's Pick":https://trueskool.com/profile/RentheVinyl
 Archaeologist
ATTACH;FMTTYPE="image/jpeg":http://storage.ning.com/topology/rest/1.0/
 file/get/2247937952?profile=original
ATTENDEE;ROLE=REQ-PARTICIPANT;PARTSTAT=ACCEPTED;RSVP=TRUE;CN="Editor's
  Pick":https://trueskool.com/profile/RentheVinylArchaeologist
END:VEVENT
END:VCALENDAR
