BEGIN:VCALENDAR
PRODID:NingEventWidget-v1
VERSION:2.0
METHOD:PUBLISH
BEGIN:VTIMEZONE
TZID:America/Los_Angeles
X-LIC-LOCATION:America/Los_Angeles
BEGIN:DAYLIGHT
TZOFFSETFROM:-0800
TZOFFSETTO:-0700
TZNAME:PDT
DTSTART:19700308T020000
RRULE:FREQ=YEARLY;BYMONTH=3;BYDAY=2SU
END:DAYLIGHT
BEGIN:STANDARD
TZOFFSETFROM:-0700
TZOFFSETTO:-0800
TZNAME:PST
DTSTART:19701101T020000
RRULE:FREQ=YEARLY;BYMONTH=11;BYDAY=1SU
END:STANDARD
END:VTIMEZONE
BEGIN:VEVENT
UID:1464587:Event:625122
DTSTAMP:20260422T103418Z
SUMMARY:Jedi Mind Tricks
DESCRIPTION:\nVenue:\nThe Independent\n\nLocation:\nSan Francisco, CA\
 n\nShow Date:\nTuesday, June 16\n\nShow Time:\n9:00PM\n\nOn Sale Date:
 \nFriday, March 20\n\nTicket Price:\n$20*plus applicable service feesT
 ickets available at The Independent (628 Divisadero, SF) for no servic
 e charge.\n\n\n\n\n\nFor more information visit https://trueskool.com/
 events/jedi-mind-tricks
DTSTART;TZID=America/Los_Angeles:20150616T210000
DTEND;TZID=America/Los_Angeles:20150616T230000
CATEGORIES:"san francisco", oakland, berkley, "san jose", "bay area"
LOCATION:The Independent, San Francisco, CA
WEBSITE:https://www.ticketfly.com/purchase/event/813663
URL:https://www.ticketfly.com/purchase/event/813663
CONTACT:
ORGANIZER;CN="Editor's Pick":https://trueskool.com/profile/RentheVinyl
 Archaeologist
ATTACH;FMTTYPE="image/jpeg":http://storage.ning.com/topology/rest/1.0/
 file/get/2247974547?profile=original
ATTENDEE;ROLE=REQ-PARTICIPANT;PARTSTAT=ACCEPTED;RSVP=TRUE;CN="Editor's
  Pick":https://trueskool.com/profile/RentheVinylArchaeologist
END:VEVENT
END:VCALENDAR
