BEGIN:VCALENDAR
PRODID:NingEventWidget-v1
VERSION:2.0
METHOD:PUBLISH
BEGIN:VTIMEZONE
TZID:America/Los_Angeles
X-LIC-LOCATION:America/Los_Angeles
BEGIN:DAYLIGHT
TZOFFSETFROM:-0800
TZOFFSETTO:-0700
TZNAME:PDT
DTSTART:19700308T020000
RRULE:FREQ=YEARLY;BYMONTH=3;BYDAY=2SU
END:DAYLIGHT
BEGIN:STANDARD
TZOFFSETFROM:-0700
TZOFFSETTO:-0800
TZNAME:PST
DTSTART:19701101T020000
RRULE:FREQ=YEARLY;BYMONTH=11;BYDAY=1SU
END:STANDARD
END:VTIMEZONE
BEGIN:VEVENT
UID:1464587:Event:35767
DTSTAMP:20260420T213050Z
SUMMARY:Jedi Mind Tricks, MC Esoteric, Reef the Lost Cauze
DESCRIPTION:\nJedi Mind Tricks\nMC Esoteric :: Reef the Lost Cauze\nBo
 und by Honor\n\nTHE INDEPENDENT - 628 DIVISADERO STREET - SAN FRANCISC
 O, CA - 415.771.1421\nBOOKING QUESTIONS • ALL SHOWS 21 AND OVER\nDoo
 rs 8:30 PM | Show 9 PM\nTickets $15 adv | $17 door\nBuy Tickets\n\n\n\
 n\n\nFor more information visit https://trueskool.com/events/jedi-mind
 -tricks-mc-esoteric
DTSTART;TZID=America/Los_Angeles:20090822T180000
DTEND;TZID=America/Los_Angeles:20090823T190000
CATEGORIES:hip, hop
LOCATION:THE INDEPENDENT, SAN FRANCISCO, CA
WEBSITE:http://www.ticketweb.com/snl/CalendarListings.action?venueId=t
 heindependentsf&month=7&year=2009
URL:http://www.ticketweb.com/snl/CalendarListings.action?venueId=thein
 dependentsf&month=7&year=2009
CONTACT:
ORGANIZER:Another Planet Ent.
ATTACH;FMTTYPE="image/jpeg":http://storage.ning.com/topology/rest/1.0/
 file/get/2247858606?profile=original
ATTENDEE;ROLE=REQ-PARTICIPANT;PARTSTAT=ACCEPTED;RSVP=TRUE;CN=ProTekUrN
 ek:https://trueskool.com/profile/ProTekUrNek
ATTENDEE;ROLE=REQ-PARTICIPANT;PARTSTAT=ACCEPTED;RSVP=TRUE;CN="Ren the 
 Vinyl Archaeologist":https://trueskool.com/profile/xh51jvilojur
END:VEVENT
END:VCALENDAR
