BEGIN:VCALENDAR
PRODID:NingEventWidget-v1
VERSION:2.0
METHOD:PUBLISH
BEGIN:VTIMEZONE
TZID:America/Los_Angeles
X-LIC-LOCATION:America/Los_Angeles
BEGIN:DAYLIGHT
TZOFFSETFROM:-0800
TZOFFSETTO:-0700
TZNAME:PDT
DTSTART:19700308T020000
RRULE:FREQ=YEARLY;BYMONTH=3;BYDAY=2SU
END:DAYLIGHT
BEGIN:STANDARD
TZOFFSETFROM:-0700
TZOFFSETTO:-0800
TZNAME:PST
DTSTART:19701101T020000
RRULE:FREQ=YEARLY;BYMONTH=11;BYDAY=1SU
END:STANDARD
END:VTIMEZONE
BEGIN:VEVENT
UID:1464587:Event:284028
DTSTAMP:20260421T125508Z
SUMMARY:Jazzy Jeff w/ DJ Shortkut (WIN TICKETS)
DESCRIPTION:\n FRIDAY JAN 10 Mighty presents DJ Jazzy Jeff w/ Shortkut
 \nMIGHTY is proud to YET AGAIN present the Magnificent DJ JAZZY JEFF w
 / Mighty resident DJ SHORTKUT - Hosted by SKILLZ - Friday January 10th
 , 2013. In March of 2012, Mighty was the first to pair Jeff w/ Shortku
 t - and since they've played multiple gigs in San Francisco & most rec
 ently Manila. Support TBA. Crowd control by Fran Boogie & Mixcrate.\n@
  Mighty 119 Utah St., SF 21+ | 9pm-3am Advance Tickets http://jeffands
 hort2014.eventbrite.com/ *All events at Mighty are 21+\nhttp://www.djj
 azzyjeff.com/ http://djshortkut.com/ http://mixcrate.com/ http://vimeo
 .com/45588858\n\nFor more information visit https://trueskool.com/even
 ts/jazzy-jeff-w-dj-shortkut
DTSTART;TZID=America/Los_Angeles:20140110T210000
DTEND;TZID=America/Los_Angeles:20140111T030000
CATEGORIES:"bay area", "san francisco"
LOCATION:Mighty, San Francisco
WEBSITE:http://jeffandshort2014.eventbrite.com/
URL:http://jeffandshort2014.eventbrite.com/
CONTACT:
ORGANIZER:Mighty
ATTACH;FMTTYPE="image/jpeg":http://storage.ning.com/topology/rest/1.0/
 file/get/2247955168?profile=original
ATTENDEE;ROLE=REQ-PARTICIPANT;PARTSTAT=ACCEPTED;RSVP=TRUE;CN="Jess Ben
 avente":https://trueskool.com/profile/JessBenavente
ATTENDEE;ROLE=REQ-PARTICIPANT;PARTSTAT=ACCEPTED;RSVP=TRUE;CN="Camille 
 Yin":https://trueskool.com/profile/Camille
ATTENDEE;ROLE=REQ-PARTICIPANT;PARTSTAT=ACCEPTED;RSVP=TRUE;CN=J:https:/
 /trueskool.com/profile/J321
ATTENDEE;ROLE=REQ-PARTICIPANT;PARTSTAT=ACCEPTED;RSVP=TRUE;CN="Sarah - 
 Reggae Gyals":https://trueskool.com/profile/SarahReggaeGyals
ATTENDEE;ROLE=REQ-PARTICIPANT;PARTSTAT=ACCEPTED;RSVP=TRUE;CN="Eric Spe
 llman":https://trueskool.com/profile/Eric92
ATTENDEE;ROLE=REQ-PARTICIPANT;PARTSTAT=ACCEPTED;RSVP=TRUE;CN="Elisa Bj
 eldanes":https://trueskool.com/profile/ElisaBjeldanes
ATTENDEE;ROLE=REQ-PARTICIPANT;PARTSTAT=ACCEPTED;RSVP=TRUE;CN=brianclim
 :https://trueskool.com/profile/brianclim
ATTENDEE;ROLE=REQ-PARTICIPANT;PARTSTAT=ACCEPTED;RSVP=TRUE;CN="Donte Ha
 rrison":https://trueskool.com/profile/DonteHarrison
ATTENDEE;ROLE=REQ-PARTICIPANT;PARTSTAT=ACCEPTED;RSVP=TRUE;CN="Frank Vi
 loria":https://trueskool.com/profile/DJILLusive
ATTENDEE;ROLE=REQ-PARTICIPANT;PARTSTAT=ACCEPTED;RSVP=TRUE;CN=Itzalovet
 hang:https://trueskool.com/profile/Itzalovethang
ATTENDEE;ROLE=REQ-PARTICIPANT;PARTSTAT=ACCEPTED;RSVP=TRUE;CN="alexis l
 a":https://trueskool.com/profile/alexisla
ATTENDEE;ROLE=REQ-PARTICIPANT;PARTSTAT=ACCEPTED;RSVP=TRUE;CN="Cedric O
 necopaseticsoul Bedford":https://trueskool.com/profile/CedricOnecopase
 ticsoulBedford
ATTENDEE;ROLE=REQ-PARTICIPANT;PARTSTAT=ACCEPTED;RSVP=TRUE;CN="Staff Pi
 ck":https://trueskool.com/profile/Ren
END:VEVENT
END:VCALENDAR
