BEGIN:VCALENDAR
PRODID:NingEventWidget-v1
VERSION:2.0
METHOD:PUBLISH
BEGIN:VTIMEZONE
TZID:America/Los_Angeles
X-LIC-LOCATION:America/Los_Angeles
BEGIN:DAYLIGHT
TZOFFSETFROM:-0800
TZOFFSETTO:-0700
TZNAME:PDT
DTSTART:19700308T020000
RRULE:FREQ=YEARLY;BYMONTH=3;BYDAY=2SU
END:DAYLIGHT
BEGIN:STANDARD
TZOFFSETFROM:-0700
TZOFFSETTO:-0800
TZNAME:PST
DTSTART:19701101T020000
RRULE:FREQ=YEARLY;BYMONTH=11;BYDAY=1SU
END:STANDARD
END:VTIMEZONE
BEGIN:VEVENT
UID:1464587:Event:314553
DTSTAMP:20260421T052545Z
SUMMARY:Jazz Roots - New Orleans: Aaron Neville (Atlanta)
DESCRIPTION:\nJazz Roots - New Orleans\n\n\nDetails: Aaron Neville\n\
 n\nCobb Energy Performing Arts Centre Atlanta, GA\n\nThu, 03/27/1408
 :00 PM\n\n Find  Tickets »\n\n\n\n\n\nFor more information visit h
 ttps://trueskool.com/events/jazz-roots-new-orleans-aaron-neville-atlan
 ta
DTSTART;TZID=America/Los_Angeles:20140327T200000
DTEND;TZID=America/Los_Angeles:20140327T220000
CATEGORIES:atlanta
LOCATION:Cobb Energy Performing Arts Centre, Atlanta
WEBSITE:http://www.ticketmaster.com/jazz-roots-new-orleans-atlanta-geo
 rgia-03-27-2014/event/0E004AE295E45529?artistid=735737&majorcatid=1000
 1&minorcatid=202&tm_link=artist_msg-0_0E004AE295E45529
URL:http://www.ticketmaster.com/jazz-roots-new-orleans-atlanta-georgia
 -03-27-2014/event/0E004AE295E45529?artistid=735737&majorcatid=10001&mi
 norcatid=202&tm_link=artist_msg-0_0E004AE295E45529
CONTACT:
ORGANIZER;CN="Editor's Pick":https://trueskool.com/profile/RentheVinyl
 Archaeologist
ATTACH;FMTTYPE="image/jpeg":http://storage.ning.com/topology/rest/1.0/
 file/get/2247958762?profile=original
ATTENDEE;ROLE=REQ-PARTICIPANT;PARTSTAT=ACCEPTED;RSVP=TRUE;CN="Editor's
  Pick":https://trueskool.com/profile/RentheVinylArchaeologist
END:VEVENT
END:VCALENDAR
