BEGIN:VCALENDAR
PRODID:NingEventWidget-v1
VERSION:2.0
METHOD:PUBLISH
BEGIN:VTIMEZONE
TZID:America/Los_Angeles
X-LIC-LOCATION:America/Los_Angeles
BEGIN:DAYLIGHT
TZOFFSETFROM:-0800
TZOFFSETTO:-0700
TZNAME:PDT
DTSTART:19700308T020000
RRULE:FREQ=YEARLY;BYMONTH=3;BYDAY=2SU
END:DAYLIGHT
BEGIN:STANDARD
TZOFFSETFROM:-0700
TZOFFSETTO:-0800
TZNAME:PST
DTSTART:19701101T020000
RRULE:FREQ=YEARLY;BYMONTH=11;BYDAY=1SU
END:STANDARD
END:VTIMEZONE
BEGIN:VEVENT
UID:1464587:Event:259360
DTSTAMP:20260421T034402Z
SUMMARY:JAY Z (New York)
DESCRIPTION:\n JAN  \n12\nSUN\n\nBarclays CenterBrooklyn, NY08:01 
 PM\n\nJAY Z - Official VIP PackagesDetails: JAY Z\nFind Tickets \n\n\
 n\n\nFor more information visit https://trueskool.com/events/jay-z-new
 -york
DTSTART;TZID=America/Los_Angeles:20140112T200000
DTEND;TZID=America/Los_Angeles:20140112T230000
CATEGORIES:nyc
LOCATION:12 SUN Barclays Center, New York
WEBSITE:http://www.ticketmaster.com/JAY-Z-tickets/artist/781009#artist
 _table_focus
URL:http://www.ticketmaster.com/JAY-Z-tickets/artist/781009#artist_tab
 le_focus
CONTACT:
ORGANIZER;CN="Editor's Pick":https://trueskool.com/profile/RentheVinyl
 Archaeologist
ATTACH;FMTTYPE="image/jpeg":http://storage.ning.com/topology/rest/1.0/
 file/get/2247949647?profile=original
ATTENDEE;ROLE=REQ-PARTICIPANT;PARTSTAT=ACCEPTED;RSVP=TRUE;CN="Editor's
  Pick":https://trueskool.com/profile/RentheVinylArchaeologist
END:VEVENT
END:VCALENDAR
