BEGIN:VCALENDAR
PRODID:NingEventWidget-v1
VERSION:2.0
METHOD:PUBLISH
BEGIN:VTIMEZONE
TZID:America/Los_Angeles
X-LIC-LOCATION:America/Los_Angeles
BEGIN:DAYLIGHT
TZOFFSETFROM:-0800
TZOFFSETTO:-0700
TZNAME:PDT
DTSTART:19700308T020000
RRULE:FREQ=YEARLY;BYMONTH=3;BYDAY=2SU
END:DAYLIGHT
BEGIN:STANDARD
TZOFFSETFROM:-0700
TZOFFSETTO:-0800
TZNAME:PST
DTSTART:19701101T020000
RRULE:FREQ=YEARLY;BYMONTH=11;BYDAY=1SU
END:STANDARD
END:VTIMEZONE
BEGIN:VEVENT
UID:1464587:Event:672301
DTSTAMP:20260421T111916Z
SUMMARY:JAY ELECTRONICA
DESCRIPTION:ENTER TO WIN A PAIR OF TICKETS. WINNER WILL BE DRAWN RANDO
 MLY AND ANNOUNCED 2 DAYS PRIOR TO EVENT. \r\n\r\nTuesday, February 20,
  2018 JAY ELECTRONICA\r\n\r\nMezzanine San Francisco, CA Show: 9:00pm\
 r\nPlease note this show is 21 and over.\r\n$27.00 – General Admissi
 on (Advance) $30.00 – General Admission (Door)\r\n>> BUY TICKETS\r\n
 \r\n\r\n\n\nFor more information visit https://trueskool.com/events/ja
 y-electronica
DTSTART;TZID=America/Los_Angeles:20180220T210000
DTEND;TZID=America/Los_Angeles:20180220T230000
CATEGORIES:"bay area", oakland, "san francisco", "san jose", berkeley
LOCATION:Mezzanine, SF
WEBSITE:https://www.ticketmaster.com/jay-electronica-san-francisco-cal
 ifornia-02-20-2018/event/1C005388F78B6C43?camefrom=CFC_ANOTHERPLANET_w
 eb&amp;amp;brand=anotherplanet
URL:https://www.ticketmaster.com/jay-electronica-san-francisco-califor
 nia-02-20-2018/event/1C005388F78B6C43?camefrom=CFC_ANOTHERPLANET_web&a
 mp;amp;brand=anotherplanet
CONTACT:
ORGANIZER;CN="Editor's Pick":https://trueskool.com/profile/RentheVinyl
 Archaeologist
ATTACH;FMTTYPE="image/jpeg":http://storage.ning.com/topology/rest/1.0/
 file/get/2248004504?profile=original
ATTENDEE;ROLE=REQ-PARTICIPANT;PARTSTAT=ACCEPTED;RSVP=TRUE;CN="Editor's
  Pick":https://trueskool.com/profile/RentheVinylArchaeologist
END:VEVENT
END:VCALENDAR
