BEGIN:VCALENDAR
PRODID:NingEventWidget-v1
VERSION:2.0
METHOD:PUBLISH
BEGIN:VTIMEZONE
TZID:America/Los_Angeles
X-LIC-LOCATION:America/Los_Angeles
BEGIN:DAYLIGHT
TZOFFSETFROM:-0800
TZOFFSETTO:-0700
TZNAME:PDT
DTSTART:19700308T020000
RRULE:FREQ=YEARLY;BYMONTH=3;BYDAY=2SU
END:DAYLIGHT
BEGIN:STANDARD
TZOFFSETFROM:-0700
TZOFFSETTO:-0800
TZNAME:PST
DTSTART:19701101T020000
RRULE:FREQ=YEARLY;BYMONTH=11;BYDAY=1SU
END:STANDARD
END:VTIMEZONE
BEGIN:VEVENT
UID:1464587:Event:38797
DTSTAMP:20260422T013159Z
SUMMARY:Jamie Foxx
DESCRIPTION:\nJamie Foxx\n\nSleep Train Pavilion, 2000 Kirker Pass Roa
 d\nConcord, CA 94521\n# (925) 676-8742\n\nFor more information visit h
 ttps://trueskool.com/events/jamie-foxx
DTSTART;TZID=America/Los_Angeles:20091010T200000
DTEND;TZID=America/Los_Angeles:20091010T230000
CATEGORIES:soul, "r&b"
LOCATION:Sleep Train Pavilion, Concord, CA
WEBSITE:http://www.livenation.com/edp/eventId/411759
URL:http://www.livenation.com/edp/eventId/411759
CONTACT:
ORGANIZER:Live Nation
ATTACH;FMTTYPE="image/jpeg":http://storage.ning.com/topology/rest/1.0/
 file/get/2247859811?profile=original
ATTENDEE;ROLE=REQ-PARTICIPANT;PARTSTAT=ACCEPTED;RSVP=TRUE;CN="Ren the 
 Vinyl Archaeologist":https://trueskool.com/profile/xh51jvilojur
END:VEVENT
END:VCALENDAR
