BEGIN:VCALENDAR
PRODID:NingEventWidget-v1
VERSION:2.0
METHOD:PUBLISH
BEGIN:VTIMEZONE
TZID:America/Los_Angeles
X-LIC-LOCATION:America/Los_Angeles
BEGIN:DAYLIGHT
TZOFFSETFROM:-0800
TZOFFSETTO:-0700
TZNAME:PDT
DTSTART:19700308T020000
RRULE:FREQ=YEARLY;BYMONTH=3;BYDAY=2SU
END:DAYLIGHT
BEGIN:STANDARD
TZOFFSETFROM:-0700
TZOFFSETTO:-0800
TZNAME:PST
DTSTART:19701101T020000
RRULE:FREQ=YEARLY;BYMONTH=11;BYDAY=1SU
END:STANDARD
END:VTIMEZONE
BEGIN:VEVENT
UID:1464587:Event:61331
DTSTAMP:20260420T212946Z
SUMMARY:JAM ON IT!
DESCRIPTION:ON BLAZT! and THE SISTERZ OF THE UNDERGROUND PRESENT...\n\
 nJAM ON IT! Is one of San Francisco's premier LIVE music events and is
  celebrating its 1 Year Anniversary. Incorporating musical styles like
  that of funk, jazz, hip-hop and soul, with live instrumentation and H
 ip Hop elements is the theme of this great night. Never a disappointme
 nt, JAM ON IT! delivers music that keeps your body moving and your hea
 d nodding and talented musicians that remind you why you fell in love 
 with music in the first place.\n\n\nDJ SOUL SISTER (WWOZ/NEW ORLEANS)\
 n\"All the way live since 1994, DJ Soul Sister specializes in rare gro
 ove, deep funk, classic old school funk, breaks, underground disco, tr
 ue school hip hop, D.C. go-go and \"real sounds with your behind in mi
 nd.\"\nThe host of the 15-year running (in July '09) Soul Power show o
 n WWOZ 90.7FM in New Orleans (Saturdays 8-10pm CST - live at www.wwoz.
 org) and a live specialty dj artist who has taken the local nightlife 
 by storm, Soul Sister was one of the first US radio DJs to highlight t
 he rare groove format and is one of the few female DJs to spin and mix
  100% funk (on 100% vinyl) and related original styles in her live per
 formances.\n\nDJ QUEST (SCRATCH HAMSTERS) w/SPECIAL GUESTS\nInfluenced
  by the hip-hop and electro styles of the early 80’s, DJ Quest has c
 ontributed to the DJ's art form by bringing a more aggressive scratch 
 tactic to the battle scene. DJ Quest, featured in documentary SCRATCH,
  coined “Hamster Style,” a unique technique of reversing the set u
 p of turntables into a mixer to facilitate new styles of scratching. Q
 uest is one of the founding members of Bullet Proof Scratch Hamsters/S
 pace Travelerz and a veteran of the DMC, New Music Seminar and countle
 ss other battles. DJ Quest has also expanded musical horizons by formi
 ng the San Francisco based experimental jazz-hip-hop trio, Livehuman. 
 On the road, Quest has also accompanied Latyrx (Quannum Projects), The
  Bomb Hip-Hop DJ’s, Future Primitive Sound Session and Space Travele
 rz and Mike Patton’s Peeping Tom. Quest has also collaborated on rec
 ordings with: Dan “The Automator” (Handsome Boy Modeling School), 
 Blackalicious, Rob Swift (Xecutioners), Z Man (One Block Radius), Sacr
 ed Hoop, Eddie K, Topper, DJ Zeph, DJ Q Bert (Do It Yourself vol. 2), 
 Wide Hive collective Variable Unit and The DJ Project.\n(http://www.my
 space.com/djquestosahn)\n\nDJ CENTIPEDE (CHANGE THE BEAT) w/GUEST MC'S
 \nKnown in San Francisco as one of the most brilliant & tasteful trip-
 hop & breaks turntablist’s in the city. He will be spinning an extra
  special set cultivated especially for ‘Jam on It’ reserving the d
 ecks for only rare 45’s and accompanied by a special guest MC.\n(htt
 p://www.myspace.com/mophono)\n\nLA FEMME DEADLY VENOMS (Deeandroid, Ce
 llskiii, Lady Fingaz and KAT 010)\nHaving recently placed 2nd in the D
 MC national team competition, this talented group of females consistin
 g of 3 turntableists and an extremely talented producer and keyboard p
 layer, are a force to be reckoned with. Between the four of these tale
 nted ladies they have blessed some of the most prestigious stages acro
 ss the world and played with an incredible roster of talented musician
 s from a variety of genres. Their special JAM ON IT! set is not to be 
 missed.\n\n\nLIVE PERFORMANCE FROM:\n\nTOAST, a dynamic female rap-duo
  from San Francisco, is the hottest thing since sliced bread...literal
 ly. Comprised of Rachael VonCookie from Portland, OR and Erika B. of L
 os Angeles, these ladies have an untouchable, no-holds-bar attitude wh
 en it comes to both stage presence and lyrical content. One of the mos
 t entertaining new groups on the SF scene, they win audiences over by 
 coupling their controversial and raunchy subject matter with head-bang
 ing Adam Curry would be jealous of.\n\n\nHOSTED BY: ZMAN (One Block Ra
 dius/Gurp City)\n\nFor more information visit https://trueskool.com/ev
 ents/jam-on-it
DTSTART;TZID=America/Los_Angeles:20100730T220000
DTEND;TZID=America/Los_Angeles:20100731T020000
CATEGORIES:hip, hop, funk, breaks, dance, rap, live, music, old, schoo
 l, new, scratching
LOCATION:Elbo Room, San Francisco, CA
WEBSITE:http://www.elbo.com
URL:http://www.elbo.com
CONTACT:
ORGANIZER;CN="Traci P":https://trueskool.com/profile/TraciP
ATTACH;FMTTYPE="image/jpeg":http://storage.ning.com/topology/rest/1.0/
 file/get/2247882075?profile=original
ATTENDEE;ROLE=REQ-PARTICIPANT;PARTSTAT=ACCEPTED;RSVP=TRUE;CN="Traci P"
 :https://trueskool.com/profile/TraciP
END:VEVENT
END:VCALENDAR
