BEGIN:VCALENDAR
PRODID:NingEventWidget-v1
VERSION:2.0
METHOD:PUBLISH
BEGIN:VTIMEZONE
TZID:America/Los_Angeles
X-LIC-LOCATION:America/Los_Angeles
BEGIN:DAYLIGHT
TZOFFSETFROM:-0800
TZOFFSETTO:-0700
TZNAME:PDT
DTSTART:19700308T020000
RRULE:FREQ=YEARLY;BYMONTH=3;BYDAY=2SU
END:DAYLIGHT
BEGIN:STANDARD
TZOFFSETFROM:-0700
TZOFFSETTO:-0800
TZNAME:PST
DTSTART:19701101T020000
RRULE:FREQ=YEARLY;BYMONTH=11;BYDAY=1SU
END:STANDARD
END:VTIMEZONE
BEGIN:VEVENT
UID:1464587:Event:36221
DTSTAMP:20260420T180927Z
SUMMARY:JAM ON IT! (Kat010, DJ Soul Sister, Lady Fingaz, Celskiii and 
 Deeandroid and Tyra from Saigon, w/ Rushone)
DESCRIPTION:Once again the ladies who brought you 'Jam On It!' do it a
 gain with yet another night of rare grooves, funk, soul, breaks and Hi
 p Hop alongside live instrumentation and insane turntablism featuring 
 some of San Francisco’s best Funk, Hip Hop, Funky-House and Soul dj'
 s. We'd also like to welcome very special guest DJ Soul Sister from Ne
 w Orleans and Hosted by San Francisco's own Rushone.\nGet your GROOVE 
 on!\n\nLADIES FREE BEFORE 10:30PM\n$5 W/RSVP WWW.GOING.COM/JAMONITELBO
 \n\nHost:\nRUSHONE\nOne of San Francisco's most energetic and entertai
 ning performers, Rushone, formerly of the hip hop collective StrangeFa
 ce, delivers every time and successfully keeps your body rocking. Asid
 e from hosting the evening, Rushone will also be performing a few trac
 ks off of his innovative upcoming album.\n(www.myspace.com/getatrush)\
 n\nDJ’s:\nDJ Soul Sister\nAs host of \"Soul Power,\" the country's l
 ongest-running rare groove radio program having been on air for over 1
 5 years in New Orleans, DJ Soul Sister specializes in rare groove, dee
 p funk, classic old school funk, breaks, underground disco, true schoo
 l hip hop, D.C. go-go and \"real sounds with your behind in mind. Vote
 d “Best DJ in New Orleans” by Where Y'at Magazine (2008 Reader's P
 oll) and being the first woman digger/dj featured in the infamous Wax 
 Poetics’, DJ Soul Sister is definitely the dedicated queen of rare g
 rooves.\n(www.myspace.com/djsoulsis)\n\nTyra From Saigon\nTyra is best
  known for her scratching skills and melodic productions. Her advanced
  turntablism abilities have acquired her sponsorships by reputable equ
 ipment companies. With only 4 years of experience, she has performed a
 t conventions all over the U.S. & Canada demonstrating products for Pi
 oneer, Mixvibes, Mackie, PCDJ, Rane and Denon.\n(www.myspace.com/tyrad
 esaigon)\n\n\nCelskiii and Deeandroid\nRecently having placed 3rd in t
 he DMC USA Teams 2009 competition, Celskiii and Deeandroid have been r
 ocking the tables since way back. KRS-ONE was one of the first to noti
 ce the powerful energy of these women, choosing the duo as his Keep Ri
 ght tour DJs, taking them on the road across the U.S. in the summer of
  2004. Currently, Celskiii and Deeandroid continue to rock shows and c
 lubs.\n(http://www.myspace.com/celskiiianddeeandroid)\n\nKat010\nKnown
  for her keyboard savvy as part of the power group, Crown City Rockers
 , Kat 010 is originally from Philadelphia and is recognized globally f
 or her Trip-Hop and Downtempo musical style.\n(www.myspace.com/o1o)\n\
 nLady Fingaz\nAlthough an Austin,Tx native, it was in New Orleans wher
 e DJ Lady Fingaz quickly made a name for herself as a rising female ta
 lent in an all to often male dominated genre. In 2004 Lady Fingaz coll
 aborated with local indie hip-hop label Media Darling Records, and tou
 red the U.S. along side some of the labels most talented artists. She 
 has played alongside such artists as Floetry, Galactic, Murs, Saul Wil
 liams, Dj Disk, Faust and Shortee, Buck 65, Dj Klever, Live Human, and
  MC Chris just to name a few. Following the destruction of Hurricane K
 atrina, Dj Lady Fingaz relocated to San Francisco to further pursue he
 r musical career.\n(http://www.myspace.com/djladyfingaz)\n\nFor more i
 nformation visit https://trueskool.com/events/jam-on-it-kat010-dj-soul
 -1
DTSTART;TZID=America/Los_Angeles:20090807T220000
DTEND;TZID=America/Los_Angeles:20090808T020000
CATEGORIES:funk, soul, rare, grooves, hip, hop, old, school, house, la
 dies, jam, fun, party
LOCATION:ELBO ROOM, SAN FRANCISCO, CA
WEBSITE:http://WWW.ELBO.COM
URL:http://WWW.ELBO.COM
CONTACT:
ORGANIZER;CN="Traci P":https://trueskool.com/profile/TraciP
ATTACH;FMTTYPE="image/jpeg":http://storage.ning.com/topology/rest/1.0/
 file/get/2247859576?profile=original
ATTENDEE;ROLE=REQ-PARTICIPANT;PARTSTAT=ACCEPTED;RSVP=TRUE;CN="Traci P"
 :https://trueskool.com/profile/TraciP
END:VEVENT
END:VCALENDAR
