BEGIN:VCALENDAR
PRODID:NingEventWidget-v1
VERSION:2.0
METHOD:PUBLISH
BEGIN:VTIMEZONE
TZID:America/Los_Angeles
X-LIC-LOCATION:America/Los_Angeles
BEGIN:DAYLIGHT
TZOFFSETFROM:-0800
TZOFFSETTO:-0700
TZNAME:PDT
DTSTART:19700308T020000
RRULE:FREQ=YEARLY;BYMONTH=3;BYDAY=2SU
END:DAYLIGHT
BEGIN:STANDARD
TZOFFSETFROM:-0700
TZOFFSETTO:-0800
TZNAME:PST
DTSTART:19701101T020000
RRULE:FREQ=YEARLY;BYMONTH=11;BYDAY=1SU
END:STANDARD
END:VTIMEZONE
BEGIN:VEVENT
UID:1464587:Event:30897
DTSTAMP:20260420T180908Z
SUMMARY:Jam On It! KAT 010, Z-MAN, LADY FINGAZ, E DA BOSS, ASPECT MCCA
 RTHY, CELSKIII & DEEANDROID AND CRYKIT
DESCRIPTION:Some of San Francisco's most talented musicians break outs
 ide the box tonight and demonstrate real variety. A funky fusion of li
 ve instruments showcasing turntablism, MPC finess, live guitar and und
 eniable keyboard swaggar, Hosted by SF's own super dandy emcee, Z-Man.
  LADIES FREE BEFORE 11PM\n$5 w/RSVP www.going.com/jamonitlive\n\nFor m
 ore information visit https://trueskool.com/events/jam-on-it-kat-010-z
 man-lady
DTSTART;TZID=America/Los_Angeles:20090501T220000
DTEND;TZID=America/Los_Angeles:20090502T020000
CATEGORIES:live, music, hip, hop, funk, breaks, old, school, new, jam,
  dancing
LOCATION:111 Minna Gallery, San Francisco, CA
WEBSITE:http://www.111minnagallery.com
URL:http://www.111minnagallery.com
CONTACT:
ORGANIZER;CN="Traci P":https://trueskool.com/profile/TraciP
ATTACH;FMTTYPE="image/jpeg":http://storage.ning.com/topology/rest/1.0/
 file/get/2247857329?profile=original
ATTENDEE;ROLE=REQ-PARTICIPANT;PARTSTAT=ACCEPTED;RSVP=TRUE;CN="Traci P"
 :https://trueskool.com/profile/TraciP
END:VEVENT
END:VCALENDAR
