BEGIN:VCALENDAR
PRODID:NingEventWidget-v1
VERSION:2.0
METHOD:PUBLISH
BEGIN:VTIMEZONE
TZID:America/Los_Angeles
X-LIC-LOCATION:America/Los_Angeles
BEGIN:DAYLIGHT
TZOFFSETFROM:-0800
TZOFFSETTO:-0700
TZNAME:PDT
DTSTART:19700308T020000
RRULE:FREQ=YEARLY;BYMONTH=3;BYDAY=2SU
END:DAYLIGHT
BEGIN:STANDARD
TZOFFSETFROM:-0700
TZOFFSETTO:-0800
TZNAME:PST
DTSTART:19701101T020000
RRULE:FREQ=YEARLY;BYMONTH=11;BYDAY=1SU
END:STANDARD
END:VTIMEZONE
BEGIN:VEVENT
UID:1464587:Event:674758
DTSTAMP:20260422T094019Z
SUMMARY:JAHI OF PE 2.0 LIVE OAKLAND MUSEUM FIRST FRIDAY MAY 4th
DESCRIPTION:Jahi of PE 2.0 LIVE with Full Band First Friday Oakland Mu
 seum May 4th\n\nFor more information visit https://trueskool.com/event
 s/jahi-of-pe-2-0-live-oakland-museum-first-friday-may-4th
DTSTART;TZID=America/Los_Angeles:20180504T193000
DTEND;TZID=America/Los_Angeles:20180504T210000
CATEGORIES:jahi
LOCATION:Oakland Museum
WEBSITE:
URL:
CONTACT:
ORGANIZER;CN=Iam:https://trueskool.com/profile/Iam
ATTACH;FMTTYPE="image/jpeg":
ATTENDEE;ROLE=REQ-PARTICIPANT;PARTSTAT=ACCEPTED;RSVP=TRUE;CN=Iam:https
 ://trueskool.com/profile/Iam
END:VEVENT
END:VCALENDAR
