BEGIN:VCALENDAR
PRODID:NingEventWidget-v1
VERSION:2.0
METHOD:PUBLISH
BEGIN:VTIMEZONE
TZID:America/Los_Angeles
X-LIC-LOCATION:America/Los_Angeles
BEGIN:DAYLIGHT
TZOFFSETFROM:-0800
TZOFFSETTO:-0700
TZNAME:PDT
DTSTART:19700308T020000
RRULE:FREQ=YEARLY;BYMONTH=3;BYDAY=2SU
END:DAYLIGHT
BEGIN:STANDARD
TZOFFSETFROM:-0700
TZOFFSETTO:-0800
TZNAME:PST
DTSTART:19701101T020000
RRULE:FREQ=YEARLY;BYMONTH=11;BYDAY=1SU
END:STANDARD
END:VTIMEZONE
BEGIN:VEVENT
UID:1464587:Event:32906
DTSTAMP:20260421T004306Z
SUMMARY:JAHI AND MORE OPENS FOR LUDACRIS MAY 30TH
DESCRIPTION:JAHI PERFORMS WITH LUDACRIS FOR SPRING FEST\n\nFor more in
 formation visit https://trueskool.com/events/jahi-and-more-opens-for-2
DTSTART;TZID=America/Los_Angeles:20090530T000000
DTEND;TZID=America/Los_Angeles:20090530T235900
CATEGORIES:hip, hop
LOCATION:HAYWARD
WEBSITE:
URL:
CONTACT:
ORGANIZER;CN=JAHI:https://trueskool.com/profile/JAHI
ATTACH;FMTTYPE="image/jpeg":http://storage.ning.com/topology/rest/1.0/
 file/get/2247857804?profile=original
ATTENDEE;ROLE=REQ-PARTICIPANT;PARTSTAT=ACCEPTED;RSVP=TRUE;CN=JAHI:http
 s://trueskool.com/profile/JAHI
END:VEVENT
END:VCALENDAR
