BEGIN:VCALENDAR
PRODID:NingEventWidget-v1
VERSION:2.0
METHOD:PUBLISH
BEGIN:VTIMEZONE
TZID:America/Los_Angeles
X-LIC-LOCATION:America/Los_Angeles
BEGIN:DAYLIGHT
TZOFFSETFROM:-0800
TZOFFSETTO:-0700
TZNAME:PDT
DTSTART:19700308T020000
RRULE:FREQ=YEARLY;BYMONTH=3;BYDAY=2SU
END:DAYLIGHT
BEGIN:STANDARD
TZOFFSETFROM:-0700
TZOFFSETTO:-0800
TZNAME:PST
DTSTART:19701101T020000
RRULE:FREQ=YEARLY;BYMONTH=11;BYDAY=1SU
END:STANDARD
END:VTIMEZONE
BEGIN:VEVENT
UID:1464587:Event:264351
DTSTAMP:20260421T093318Z
SUMMARY:Jaheim (Atlanta)
DESCRIPTION:\nJaheim\n\n\nFox Theatre Atlanta Atlanta, GA\n\nFri, 11/2
 9/1308:00 PM\n\nFind Tickets »\n\n\n\n\n\nFor more information visit
  https://trueskool.com/events/jaheim-atlanta
DTSTART;TZID=America/Los_Angeles:20131129T200000
DTEND;TZID=America/Los_Angeles:20131129T230000
CATEGORIES:atlanta
LOCATION:Fox Theatre
WEBSITE:http://www.ticketmaster.com/partner_redirect?v=n04XKyLoSKat2cF
 34Bk-8RoI9M8wrWiWmYkRX4QTVdZ5s7zfstCWxg2pQDh28CW5PER8rZaU6JoDN0lxu7rh-
 wjw_Spab2FjSJKkn9btq6SV5ebGjID1HzDEYksKGgx22uM2XNh9lhYmsFNjKdlB_pKnbMO
 Iu1pkFqCdjf1KDxz4RwmF3n9VsON8FO_NbcDEUis5g_iMnVyiuBvwLAlCy_PVv36sOxyNt
 3inl_AR-sIHBn0lihZOoxb9H6EIp_w-fsrPKRyq_hv7FRSOxtyr&eventid=0E004B3EA8
 155489&artistid=850432&artistname=Jaheim
URL:http://www.ticketmaster.com/partner_redirect?v=n04XKyLoSKat2cF34Bk
 -8RoI9M8wrWiWmYkRX4QTVdZ5s7zfstCWxg2pQDh28CW5PER8rZaU6JoDN0lxu7rh-wjw_
 Spab2FjSJKkn9btq6SV5ebGjID1HzDEYksKGgx22uM2XNh9lhYmsFNjKdlB_pKnbMOIu1p
 kFqCdjf1KDxz4RwmF3n9VsON8FO_NbcDEUis5g_iMnVyiuBvwLAlCy_PVv36sOxyNt3inl
 _AR-sIHBn0lihZOoxb9H6EIp_w-fsrPKRyq_hv7FRSOxtyr&eventid=0E004B3EA81554
 89&artistid=850432&artistname=Jaheim
CONTACT:
ORGANIZER;CN="Staff Pick":https://trueskool.com/profile/Ren
ATTACH;FMTTYPE="image/jpeg":http://storage.ning.com/topology/rest/1.0/
 file/get/2247951019?profile=original
ATTENDEE;ROLE=REQ-PARTICIPANT;PARTSTAT=ACCEPTED;RSVP=TRUE;CN="Staff Pi
 ck":https://trueskool.com/profile/Ren
END:VEVENT
END:VCALENDAR
