BEGIN:VCALENDAR
PRODID:NingEventWidget-v1
VERSION:2.0
METHOD:PUBLISH
BEGIN:VTIMEZONE
TZID:America/Los_Angeles
X-LIC-LOCATION:America/Los_Angeles
BEGIN:DAYLIGHT
TZOFFSETFROM:-0800
TZOFFSETTO:-0700
TZNAME:PDT
DTSTART:19700308T020000
RRULE:FREQ=YEARLY;BYMONTH=3;BYDAY=2SU
END:DAYLIGHT
BEGIN:STANDARD
TZOFFSETFROM:-0700
TZOFFSETTO:-0800
TZNAME:PST
DTSTART:19701101T020000
RRULE:FREQ=YEARLY;BYMONTH=11;BYDAY=1SU
END:STANDARD
END:VTIMEZONE
BEGIN:VEVENT
UID:1464587:Event:625010
DTSTAMP:20260421T131218Z
SUMMARY:Mr Williamz (Jamaica/U.K) sound system with King I-Vier (Jah W
 arrior Shelter), plus DJ Sep at Elbo Room
DESCRIPTION:Dub Mission presents an exclusive Bay Area Sound System se
 ssion with Mr Williamz (Scotch Bonnet/Necessary Mayhem/Jahtari – Jam
 aica/UK)  and King I-Vier (Jah Warrior Shelter Hi-Fi/Royal Order Music
 ) plus DJ Sep (Dub Mission)  at Elbo Room, 647 Valencia Street, SF, CA
  94110 - 21 & over - 415 552 7788  9 pm to 2 am - $7 Adv./$10 Door –
  Advance tickets at http://mrwilliamz.bpt.me More info: www.dubmission
 .com\n Dub Mission is proud to present for the first time on our stage
  one of the premier MCs on the Jamaica and U.K dancehall scenes, Mr Wi
 lliamz.   www.mrwilliamz.com www.facebook.com/pages/MRWILLIAMZ/115097
 671856972 Ganja Palace: https://www.youtube.com/watch?v=nz8Ufjm7CAk ht
 tp://www.reggaeville.com/nc/artist-details/artist/mr-williamz/news/int
 erview-mrwilliamz/ac/news/update/1.html\n www.dubmission.com\nwww.twit
 ter.com/djsepdubmission www.facebook.com/DubMissionSF www.youtube.com/
 dubmission www.soundcloud.com/dubmissionsf  www.instagram.com/dubmissi
 onsf \n\nFor more information visit https://trueskool.com/events/jahda
 n-blakkamoore-lustre-kings-ny-relic-secure-dj-sep-at-elbo
DTSTART;TZID=America/Los_Angeles:20150726T210000
DTEND;TZID=America/Los_Angeles:20150727T020000
CATEGORIES:mr, williamz, king, i-vier, jah, warrior, shelter, jamaica,
  "u.k.sound", system, san, francisco, sfbay, dub, mission, dubmission,
  dj, sep, dancehall, nightlife, live, djs
LOCATION:Elbo Room
WEBSITE:http://www.dubmissionsf.com/
URL:http://www.dubmissionsf.com/
CONTACT:415 552 7788
ORGANIZER;CN="DJ SEP":https://trueskool.com/profile/DJSEP
ATTACH;FMTTYPE="image/jpeg":http://storage.ning.com/topology/rest/1.0/
 file/get/2247978099?profile=original
ATTENDEE;ROLE=REQ-PARTICIPANT;PARTSTAT=ACCEPTED;RSVP=TRUE;CN="DJ SEP":
 https://trueskool.com/profile/DJSEP
END:VEVENT
END:VCALENDAR
