BEGIN:VCALENDAR
PRODID:NingEventWidget-v1
VERSION:2.0
METHOD:PUBLISH
BEGIN:VTIMEZONE
TZID:America/Los_Angeles
X-LIC-LOCATION:America/Los_Angeles
BEGIN:DAYLIGHT
TZOFFSETFROM:-0800
TZOFFSETTO:-0700
TZNAME:PDT
DTSTART:19700308T020000
RRULE:FREQ=YEARLY;BYMONTH=3;BYDAY=2SU
END:DAYLIGHT
BEGIN:STANDARD
TZOFFSETFROM:-0700
TZOFFSETTO:-0800
TZNAME:PST
DTSTART:19701101T020000
RRULE:FREQ=YEARLY;BYMONTH=11;BYDAY=1SU
END:STANDARD
END:VTIMEZONE
BEGIN:VEVENT
UID:1464587:Event:811602
DTSTAMP:20260421T210727Z
SUMMARY:JACK HARLOW / City Girls (WIN TICKETS)
DESCRIPTION:ENTER TO WIN A PAIR OF TICKETS. WINNER WILL BE DRAWN RANDO
 MLY AND ANNOUNCED 2 DAYS PRIOR TO EVENT. \r\n\r\n\r\nFRIDAY, SEPT 16\
 r\nCome Home The Kids Miss You Tour\r\n JACK HARLOW\r\n City Girls\r\n
  The Homies\r\n\r\n Bill Graham Civic Auditorium\r\n San Francisco, CA
 \r\n Doors: 6:30pm | Show: 7:30pm\r\n >> BUY TICKETS\r\n\r\n\r\n\n\nFo
 r more information visit https://trueskool.com/events/jack-harlow-city
 -girls-win-tickets
DTSTART;TZID=America/Los_Angeles:20220916T183000
DTEND;TZID=America/Los_Angeles:20220916T230000
CATEGORIES:"bay area", "san francisco"
LOCATION:Bill Graham Civic Auditorium, San Francisco
WEBSITE:https://www.ticketmaster.com/jack-harlow-come-home-the-kids-sa
 n-francisco-california-09-16-2022/event/1C005D030D6F84EA?camefrom=CFC_
 ANOTHERPLANET_web&amp;amp;brand=anotherplanet
URL:https://www.ticketmaster.com/jack-harlow-come-home-the-kids-san-fr
 ancisco-california-09-16-2022/event/1C005D030D6F84EA?camefrom=CFC_ANOT
 HERPLANET_web&amp;amp;brand=anotherplanet
CONTACT:
ORGANIZER:Another Planet Entertainment
ATTACH;FMTTYPE="image/jpeg":https://storage.ning.com/topology/rest/1.0
 /file/get/10811273655?profile=original
ATTENDEE;ROLE=REQ-PARTICIPANT;PARTSTAT=ACCEPTED;RSVP=TRUE;CN="Donte Ha
 rrison":https://trueskool.com/profile/DonteHarrison
ATTENDEE;ROLE=REQ-PARTICIPANT;PARTSTAT=ACCEPTED;RSVP=TRUE;CN="Editor's
  Pick":https://trueskool.com/profile/RentheVinylArchaeologist
END:VEVENT
END:VCALENDAR
