BEGIN:VCALENDAR
PRODID:NingEventWidget-v1
VERSION:2.0
METHOD:PUBLISH
BEGIN:VTIMEZONE
TZID:America/Los_Angeles
X-LIC-LOCATION:America/Los_Angeles
BEGIN:DAYLIGHT
TZOFFSETFROM:-0800
TZOFFSETTO:-0700
TZNAME:PDT
DTSTART:19700308T020000
RRULE:FREQ=YEARLY;BYMONTH=3;BYDAY=2SU
END:DAYLIGHT
BEGIN:STANDARD
TZOFFSETFROM:-0700
TZOFFSETTO:-0800
TZNAME:PST
DTSTART:19701101T020000
RRULE:FREQ=YEARLY;BYMONTH=11;BYDAY=1SU
END:STANDARD
END:VTIMEZONE
BEGIN:VEVENT
UID:1464587:Event:672045
DTSTAMP:20260421T085252Z
SUMMARY:JA RULE & ASHANTI
DESCRIPTION:ENTER TO WIN A PAIR OF TICKETS. WINNER WILL BE DRAWN RANDO
 MLY AND ANNOUNCED 2 DAYS PRIOR TO EVENT. \r\n\r\nThursday, February 8,
  2018\r\nJA RULE & ASHANTI with Ray J\r\n\r\n@ THE WARFIELD, 982 Marke
 t Street, San Francisco, CA Doors: 7:00PM |Show: 8:00PM >> BUY TICKETS
 \r\n\r\n\r\n\n\nFor more information visit https://trueskool.com/event
 s/ja-rule-ashanti
DTSTART;TZID=America/Los_Angeles:20180208T200000
DTEND;TZID=America/Los_Angeles:20180208T230000
CATEGORIES:"bay area", oakland, "san francisco", "san jose", berkeley
LOCATION:THE WARFIELD, SF
WEBSITE:http://www.axs.com/events/347216/ja-rule-ashanti-tickets?src=O
 VSD8OUBX6UU7I7EN3V1L8HP&amp;amp;t_tags=OVSD8OUBX6UU7I7EN3V1L8HP&amp;am
 p;mkt_campaign=OVSD8OUBX6UU7I7EN3V1L8HP
URL:http://www.axs.com/events/347216/ja-rule-ashanti-tickets?src=OVSD8
 OUBX6UU7I7EN3V1L8HP&amp;amp;t_tags=OVSD8OUBX6UU7I7EN3V1L8HP&amp;amp;mk
 t_campaign=OVSD8OUBX6UU7I7EN3V1L8HP
CONTACT:
ORGANIZER:Goldenvoice
ATTACH;FMTTYPE="image/jpeg":http://storage.ning.com/topology/rest/1.0/
 file/get/2248004403?profile=original
ATTENDEE;ROLE=REQ-PARTICIPANT;PARTSTAT=ACCEPTED;RSVP=TRUE;CN="Editor's
  Pick":https://trueskool.com/profile/RentheVinylArchaeologist
END:VEVENT
END:VCALENDAR
