BEGIN:VCALENDAR
PRODID:NingEventWidget-v1
VERSION:2.0
METHOD:PUBLISH
BEGIN:VTIMEZONE
TZID:America/Los_Angeles
X-LIC-LOCATION:America/Los_Angeles
BEGIN:DAYLIGHT
TZOFFSETFROM:-0800
TZOFFSETTO:-0700
TZNAME:PDT
DTSTART:19700308T020000
RRULE:FREQ=YEARLY;BYMONTH=3;BYDAY=2SU
END:DAYLIGHT
BEGIN:STANDARD
TZOFFSETFROM:-0700
TZOFFSETTO:-0800
TZNAME:PST
DTSTART:19701101T020000
RRULE:FREQ=YEARLY;BYMONTH=11;BYDAY=1SU
END:STANDARD
END:VTIMEZONE
BEGIN:VEVENT
UID:1464587:Event:321251
DTSTAMP:20260421T073250Z
SUMMARY:J.Mitchell/Holly Saucy/Aima the Dreamer/Queens D. Light || FÃ‰
 RO || -LIVE
DESCRIPTION:\n\"The Licorice Pimpz (Tyler Burke, Tommy Delgato, Sojan 
 and Jeff Logan) are just some bad mutha f*@as, period.\"- Holly SaucyÂ
  https://hollysaucy.bandcamp.com/J. Mitchell MelodiousFlyThe sensual a
 nd soulful sounds of Jasmine \"J. Mitchell\" is penetrating through th
 e music scene as one of the hottest and eccentric new voices of the fu
 ture. With a captivating range and demanding stage presence, Her voice
  stands uniquely on its own.Â \"She inspires you to dream on the sneak
  tip. She is peculiar, triple take causing, space vixen au natural, wh
 ose music makes you tilt your head and say 'Hmmm,\" said Dazjea, of Pu
 rple Magazine.J. Mitchell has collaborated with many artist local and 
 abroad, such as Famed Producer Exile, and Hip hop Legends Snoop dog an
 d Common. Generating buzz and radio play throughout the US as well as 
 Europe, with her collaboration with french bassist Hadrian Feruad. She
  also sat in as the lead singer for the Los Angeles based band the Reb
 irth. She has shared the stage with such acts as the Buena Vista Socia
 l Club. She currently is the lead singer for the band Dove Society, J 
 Mitchell just wrapped a project with Shafiq Husayn (of the SA-RA colle
 ctive) Called The Pharaohs Parade slated for release this summer.Â htt
 ps://jmitchellmelodiousfly.bandcamp.com/Your Summer Song- J.Mitchell w
 ith ExileÂ http://www.youtube.com/watch?v=26Q4Y7s2bMoÂ J.Mitchel with 
 Shafiq HusaynThe Rapture.-Â http://youtu.be/Jq6ShEH8umQ.The Loop -Â ht
 tp://youtu.be/vRhKofeUwysÂ Reincarnation -Â http://shafiqhusayn.com/al
 bum/reincarnation-ft-j-mitchellListen and Download Free her Stellar EP
  Love Kills Here!Â http://jmitchellmelodiousfly.bandcamp.com/album/lov
 e-kills-the-demon-an-epÂ this is a Birthday BASH for Holly Saucy and a
 ll the other RAMS!!COME PARTY WITH US !!\n\n\n\n\nFor more information
  visit https://trueskool.com/events/j-mitchell-holly-saucy-aima-the-dr
 eamer-queens-d-light-f-ro-live
DTSTART;TZID=America/Los_Angeles:20140329T200000
DTEND;TZID=America/Los_Angeles:20140330T020000
CATEGORIES:oakland, hiphop, soul, "r&b", live, music, women
LOCATION:Legionaire Saloon
WEBSITE:
URL:
CONTACT:
ORGANIZER;CN="Dejah Fortune":https://trueskool.com/profile/DejahFortun
 e
ATTACH;FMTTYPE="image/jpeg":http://storage.ning.com/topology/rest/1.0/
 file/get/2247958794?profile=original
ATTENDEE;ROLE=REQ-PARTICIPANT;PARTSTAT=ACCEPTED;RSVP=TRUE;CN="Dejah Fo
 rtune":https://trueskool.com/profile/DejahFortune
END:VEVENT
END:VCALENDAR
