BEGIN:VCALENDAR
PRODID:NingEventWidget-v1
VERSION:2.0
METHOD:PUBLISH
BEGIN:VTIMEZONE
TZID:America/Los_Angeles
X-LIC-LOCATION:America/Los_Angeles
BEGIN:DAYLIGHT
TZOFFSETFROM:-0800
TZOFFSETTO:-0700
TZNAME:PDT
DTSTART:19700308T020000
RRULE:FREQ=YEARLY;BYMONTH=3;BYDAY=2SU
END:DAYLIGHT
BEGIN:STANDARD
TZOFFSETFROM:-0700
TZOFFSETTO:-0800
TZNAME:PST
DTSTART:19701101T020000
RRULE:FREQ=YEARLY;BYMONTH=11;BYDAY=1SU
END:STANDARD
END:VTIMEZONE
BEGIN:VEVENT
UID:1464587:Event:628919
DTSTAMP:20260421T095707Z
SUMMARY:J. Cole: Forest Hills Drive Tour
DESCRIPTION:J. Cole: Forest Hills Drive TourShoreline Amphitheatre, Mo
 untain View, CATue, Jul 14, 2015 06:30 PMDetails: J. Cole, Big Sean, Y
 G, Jeremih\n\nFor more information visit https://trueskool.com/events/
 j-cole-forest-hills-drive-tour
DTSTART;TZID=America/Los_Angeles:20150714T183000
DTEND;TZID=America/Los_Angeles:20150714T230000
CATEGORIES:"san francisco", oakland, berkley, "san jose", "bay area"
LOCATION:Shoreline Amphitheatre, Mountain View, CA
WEBSITE:http://concerts.livenation.com/event/1C004E532A4AAEBD?crosssit
 e=TM_US:1474871:229414
URL:http://concerts.livenation.com/event/1C004E532A4AAEBD?crosssite=TM
 _US:1474871:229414
CONTACT:
ORGANIZER;CN="Editor's Pick":https://trueskool.com/profile/RentheVinyl
 Archaeologist
ATTACH;FMTTYPE="image/jpeg":http://storage.ning.com/topology/rest/1.0/
 file/get/2059274481?profile=original
ATTENDEE;ROLE=REQ-PARTICIPANT;PARTSTAT=ACCEPTED;RSVP=TRUE;CN="Editor's
  Pick":https://trueskool.com/profile/RentheVinylArchaeologist
END:VEVENT
END:VCALENDAR
