BEGIN:VCALENDAR
PRODID:NingEventWidget-v1
VERSION:2.0
METHOD:PUBLISH
BEGIN:VTIMEZONE
TZID:America/Los_Angeles
X-LIC-LOCATION:America/Los_Angeles
BEGIN:DAYLIGHT
TZOFFSETFROM:-0800
TZOFFSETTO:-0700
TZNAME:PDT
DTSTART:19700308T020000
RRULE:FREQ=YEARLY;BYMONTH=3;BYDAY=2SU
END:DAYLIGHT
BEGIN:STANDARD
TZOFFSETFROM:-0700
TZOFFSETTO:-0800
TZNAME:PST
DTSTART:19701101T020000
RRULE:FREQ=YEARLY;BYMONTH=11;BYDAY=1SU
END:STANDARD
END:VTIMEZONE
BEGIN:VEVENT
UID:1464587:Event:424034
DTSTAMP:20260421T033700Z
SUMMARY:J BOOG with Hot Rain, Inna VIsion, Native Elements, DJ Jah Yze
 r, & hosted by Big Body Cisco
DESCRIPTION:J BOOG\nwith Hot Rain, Inna Vision, Native Elements, DJ Ja
 h Yzer\nHosted by Big Body Cisco\n9PM // 21+ w/ Valid ID \n\nBUY TICK
 ETS\n\n\n\nJ Boog is a man of many influences. The singer of Samoan d
 escent was born in Long Beach and raised in Compton, California. Growi
 ng up in the rough streets of Compton, the strong sense of tradition a
 nd culture that J Boog absorbed from his family was instrumental in hi
 s path to stay off the streets and begin a successful music career.\n\
 nAt the age of four, after hearing his older sister playing the piano,
  he developed an interest and started watching her and learning about 
 music. Soon, J was singing along to the notes & melodies he heard his 
 sister play. A while later, she brought home a Bob Marley song book. E
 ven at this young age, J knew Bob’s name and his music. Upon hearing
  his sister begin to play, something clicked inside J. He hasn’t bee
 n the same since.\nThese days Boog is either in a studio, on a stage o
 r catching a flight. Radio interviews have become a daily thing and it
 ’s a little overwhelming for the young artist, though he has been sm
 art enough to keep his humility. He has a great sense of humor and an 
 even better sense of reality. He can be overheard saying how blessed h
 e is on a daily basis. It’s easy to see why J Boog has been winning 
 over fans when you meet him. He has the right spirit and attitude to c
 arry him to the next level.\n\nFor more information visit https://true
 skool.com/events/j-boog-with-hot-rain-inna-vision-native-elements-dj-j
 ah-yzer
DTSTART;TZID=America/Los_Angeles:20141011T210000
DTEND;TZID=America/Los_Angeles:20141012T020000
CATEGORIES:san, francisco, bay, area, sf, mezzanine, mezzaninesf, soma
LOCATION:Mezzanine, San Francisco, CA
WEBSITE:http://mezzaninesf.com/
URL:http://mezzaninesf.com/
CONTACT:4156258880
ORGANIZER;CN=MezzanineSF:https://trueskool.com/profile/MezzanineSF
ATTACH;FMTTYPE="image/jpeg":http://storage.ning.com/topology/rest/1.0/
 file/get/2247965624?profile=original
ATTENDEE;ROLE=REQ-PARTICIPANT;PARTSTAT=ACCEPTED;RSVP=TRUE;CN="James Mi
 chael Federighi":https://trueskool.com/profile/JamesMichaelFederighi
ATTENDEE;ROLE=REQ-PARTICIPANT;PARTSTAT=ACCEPTED;RSVP=TRUE;CN=Mezzanine
 SF:https://trueskool.com/profile/MezzanineSF
END:VEVENT
END:VCALENDAR
