BEGIN:VCALENDAR
PRODID:NingEventWidget-v1
VERSION:2.0
METHOD:PUBLISH
BEGIN:VTIMEZONE
TZID:America/Los_Angeles
X-LIC-LOCATION:America/Los_Angeles
BEGIN:DAYLIGHT
TZOFFSETFROM:-0800
TZOFFSETTO:-0700
TZNAME:PDT
DTSTART:19700308T020000
RRULE:FREQ=YEARLY;BYMONTH=3;BYDAY=2SU
END:DAYLIGHT
BEGIN:STANDARD
TZOFFSETFROM:-0700
TZOFFSETTO:-0800
TZNAME:PST
DTSTART:19701101T020000
RRULE:FREQ=YEARLY;BYMONTH=11;BYDAY=1SU
END:STANDARD
END:VTIMEZONE
BEGIN:VEVENT
UID:1464587:Event:672291
DTSTAMP:20260421T182121Z
SUMMARY:J Boog & The Green
DESCRIPTION:ENTER TO WIN A PAIR OF TICKETS. WINNER WILL BE DRAWN RANDO
 MLY AND ANNOUNCED 2 DAYS PRIOR TO EVENT. \r\n\r\nWednesday, February 1
 4, 2018\r\nValentine's Day!\r\nJ BOOG & THE GREEN\r\nFox Theater Oakla
 nd, CA Show: 7:30pm\r\n>> BUY TICKETS\r\n\n\nFor more information visi
 t https://trueskool.com/events/j-boog-1
DTSTART;TZID=America/Los_Angeles:20180214T193000
DTEND;TZID=America/Los_Angeles:20180214T230000
CATEGORIES:"bay area", oakland, "san francisco", "san jose", berkeley
LOCATION:Fox Theater, Oakland
WEBSITE:http://www.ticketmaster.com/j-boog-the-green-oakland-californi
 a-02-14-2018/event/1C00536E05F295F0?camefrom=CFC_ANOTHERPLANET_web&amp
 ;amp;amp;amp;brand=anotherplanet
URL:http://www.ticketmaster.com/j-boog-the-green-oakland-california-02
 -14-2018/event/1C00536E05F295F0?camefrom=CFC_ANOTHERPLANET_web&amp;amp
 ;amp;amp;brand=anotherplanet
CONTACT:
ORGANIZER;CN="Editor's Pick":https://trueskool.com/profile/RentheVinyl
 Archaeologist
ATTACH;FMTTYPE="image/jpeg":http://storage.ning.com/topology/rest/1.0/
 file/get/2248009379?profile=original
ATTENDEE;ROLE=REQ-PARTICIPANT;PARTSTAT=ACCEPTED;RSVP=TRUE;CN="Editor's
  Pick":https://trueskool.com/profile/RentheVinylArchaeologist
ATTENDEE;ROLE=REQ-PARTICIPANT;PARTSTAT=ACCEPTED;RSVP=TRUE;CN="Elisa Bj
 eldanes":https://trueskool.com/profile/ElisaBjeldanes
END:VEVENT
END:VCALENDAR
