BEGIN:VCALENDAR
PRODID:NingEventWidget-v1
VERSION:2.0
METHOD:PUBLISH
BEGIN:VTIMEZONE
TZID:America/Los_Angeles
X-LIC-LOCATION:America/Los_Angeles
BEGIN:DAYLIGHT
TZOFFSETFROM:-0800
TZOFFSETTO:-0700
TZNAME:PDT
DTSTART:19700308T020000
RRULE:FREQ=YEARLY;BYMONTH=3;BYDAY=2SU
END:DAYLIGHT
BEGIN:STANDARD
TZOFFSETFROM:-0700
TZOFFSETTO:-0800
TZNAME:PST
DTSTART:19701101T020000
RRULE:FREQ=YEARLY;BYMONTH=11;BYDAY=1SU
END:STANDARD
END:VTIMEZONE
BEGIN:VEVENT
UID:1464587:Event:62321
DTSTAMP:20260420T194559Z
SUMMARY:iStandard Producer Showcase -Texas Urban Music Summit
DESCRIPTION:This summer A. Steele Unlimited, Inc. & Tony Neal, CEO of 
 the Core DJs will bring to you the Texas Urban Music Summit III, Augus
 t 5-8, 2010 in Dallas, TX.\n\niStandard is proud to announce it will b
 e holding its iStandard Producer Showcase as a part of this year's TEX
 AS URBAN MUSIC SUMMIT. Full agenda, schedule is being updated daily at
  www.texasums.com .\n\nRegister to attend the Texas Urban Music Summit
  III HERE. THE REGISTRATION FEE MUST BE PAID WHEN YOU PRE-REGISTER.\n\
 nPRE REGISTRATION: APRIL 26, 2010- JULY 26, 2010\n\nOnce registered, y
 ou can submit for consideration for the iStandard Producer Showcase HE
 RE\n\nNever heard of the Texas UMS? See some footage from it HERE\n\nT
 he Texas UMS provides event attendees with insight into the roles of e
 ntertainment's major players and the business side of the music & ente
 rtainment industry. Dallas based Definition DJs are the official host 
 DJs under the leadership of their CEO Dallas DJ Drop. It is designed t
 o provide direction and information for new and seasoned artists, prod
 ucers, managers, publicists, promoters, models and entrepreneurs in Te
 xas and surrounding markets. The opportunity to network and showcase t
 he existing talent in Texas and the surrounding markets on a national 
 level is invaluable exposure.\nSince its inception in 2008, the Texas 
 UMS has grown to be a highly anticipated event in the great city of Da
 llas. This event highlights education, empowerment and exposure which 
 is needed to be successful in the vast industry of entertainment. It i
 ncorporates informative panels, showcases, Q&A sessions, networking mi
 xers and much, much more. The foundation of the Texas UMS has lead to 
 the success of artists within the city of Dallas gaining them radio ai
 rplay and promotion locally and nationally. DJs benefit from the oppor
 tunity to network with new and existing artists, attendees and industr
 y professionals. DJs will also benefit from listening to and breaking 
 new music. Models will benefit by gaining great exposure and knowledge
  during model led by Tonya Terelle, CEO of Lavish Models and Director 
 of Model Relations for the Texas UMS. By attending, they will be able 
 to build a network to develop relationships with artists, directors, p
 hotographers and tastemakers alike to take their career to the next le
 vel.\n\niStandard is proud to announce it will be holding its iStandar
 d Producer Showcase as a part of this year's TEXAS URBAN MUSIC SUMMIT 
 in Dallas, TX. Full agenda, schedule, and panelists coming soon, so ke
 ep checking www.texasums.com for information.\n\nON SITE REGISTRATION:
  $250.00 ***DJ AND PROFESSIONAL MODEL PRE-REGISTRATION FEE IS WAIVED. 
 DJ AND PROFESSIONAL MODEL ONSITE REGISTRATION IS $50.00. CREDITIALS WI
 LL BE VERIFIED.***\n\n\n\nFor more information visit https://trueskool
 .com/events/istandard-producer-showcase
DTSTART;TZID=America/Los_Angeles:20100805T000000
DTEND;TZID=America/Los_Angeles:20100808T235900
CATEGORIES:producer, showcase, urban, music, summit
LOCATION:Doubletree Hotel, Dallas, TX
WEBSITE:
URL:
CONTACT:
ORGANIZER;CN="iStandard Producers":https://trueskool.com/profile/iStan
 dardProducers
ATTACH;FMTTYPE="image/jpeg":
ATTENDEE;ROLE=REQ-PARTICIPANT;PARTSTAT=ACCEPTED;RSVP=TRUE;CN="iStandar
 d Producers":https://trueskool.com/profile/iStandardProducers
END:VEVENT
END:VCALENDAR
