BEGIN:VCALENDAR
PRODID:NingEventWidget-v1
VERSION:2.0
METHOD:PUBLISH
BEGIN:VTIMEZONE
TZID:America/Los_Angeles
X-LIC-LOCATION:America/Los_Angeles
BEGIN:DAYLIGHT
TZOFFSETFROM:-0800
TZOFFSETTO:-0700
TZNAME:PDT
DTSTART:19700308T020000
RRULE:FREQ=YEARLY;BYMONTH=3;BYDAY=2SU
END:DAYLIGHT
BEGIN:STANDARD
TZOFFSETFROM:-0700
TZOFFSETTO:-0800
TZNAME:PST
DTSTART:19701101T020000
RRULE:FREQ=YEARLY;BYMONTH=11;BYDAY=1SU
END:STANDARD
END:VTIMEZONE
BEGIN:VEVENT
UID:1464587:Event:31346
DTSTAMP:20260422T110548Z
SUMMARY:ISLANDS IN THE PARK
DESCRIPTION:http://www.jumbiproductions.comhttp://www.jumbiproductions
 .comCOME CELEBRATE CARIBBEAN AMERICAN HERITAGE MONTH WHILE ENJOYING GR
 EAT CARIBBEAN FOOD AND MUSIC.\n\nPERFORMING LIVE:\n\nTHIRD WORLD\nCOLL
 IE BUDDZ & NEW KINGSTON BAND\nMIGHTY SPARROW\nSHEILA HYLTON\n\nTHE EVE
 NT WILL HONOR MUSIC PIONEERS WITH A CALA\n(Caribbean American Legacy A
 wards)\n\nTHIRD WORLD\nMIGHTY SPARROW\n\nAND ALSO HONOR INDIVIDUAL'S W
 HO HAVE MADE A CONTRIBUTION TO THE COMMUNITY:\n\nART'S JAMAICAN MARKET
 \nJAANC (Jamaican American Association Of Northern CA)\nSISTAS WIT STY
 LE\nDR. TERICITA DEAN\n\nTICKETS $30 ADV $35 DAY OF EVENT $45 VIP with
  parking (limited spaces)\n\n* $25 Students 13 and under at door only 
 *\n\nTICKET OUTLETS:\n\nCBTV-1 510-3RD ST. STE 100 OAK,CA (510) 832-54
 00\n\nARTS JAMAICAN MARKET 4042 BROADWAY OAK,CA (510) 652-2168\n\nISLA
 ND FLAVAH 2057 SAN PABLO AVE BERKELEY,CA (510) 704-4083\n\nFor more in
 formation visit https://trueskool.com/events/islands-in-the-park
DTSTART;TZID=America/Los_Angeles:20090614T120000
DTEND;TZID=America/Los_Angeles:20090614T190000
CATEGORIES:"reggae/caribbean"
LOCATION:WOODMINSTER AMPHITEATER
WEBSITE:http://www.jumbiproductions.com
URL:http://www.jumbiproductions.com
CONTACT:(510) 465-5267  (510) 910-4038
ORGANIZER:CARIBBEAN AMERICAN HERITAGE ASSOCIATION OF NORTHERN CALIFORN
 IA
ATTACH;FMTTYPE="image/jpeg":http://storage.ning.com/topology/rest/1.0/
 file/get/2247856423?profile=original
ATTENDEE;ROLE=REQ-PARTICIPANT;PARTSTAT=ACCEPTED;RSVP=TRUE;CN="Darrin T
 hurman":https://trueskool.com/profile/DarrinThurman
END:VEVENT
END:VCALENDAR
