BEGIN:VCALENDAR
PRODID:NingEventWidget-v1
VERSION:2.0
METHOD:PUBLISH
BEGIN:VTIMEZONE
TZID:America/Los_Angeles
X-LIC-LOCATION:America/Los_Angeles
BEGIN:DAYLIGHT
TZOFFSETFROM:-0800
TZOFFSETTO:-0700
TZNAME:PDT
DTSTART:19700308T020000
RRULE:FREQ=YEARLY;BYMONTH=3;BYDAY=2SU
END:DAYLIGHT
BEGIN:STANDARD
TZOFFSETFROM:-0700
TZOFFSETTO:-0800
TZNAME:PST
DTSTART:19701101T020000
RRULE:FREQ=YEARLY;BYMONTH=11;BYDAY=1SU
END:STANDARD
END:VTIMEZONE
BEGIN:VEVENT
UID:1464587:Event:33327
DTSTAMP:20260422T140659Z
SUMMARY:Islands in the Park feat. Third World, Mighty Sparrow, Collie 
 Buddz, Sheila Hylton and the New Kingston Band
DESCRIPTION:\nJumbi Productions presents\nIslands in the Park\nCelebra
 ting the rich cultural heritage of the Caribbean through music!\n\nFea
 turing:\nThird World, Mighty Sparrow, Collie Buddz, Sheila Hylton and 
 the New Kingston Band.\n\nEnjoy Caribbean food, arts and crafts. Ongoi
 ng entertainment throughout the day by DJ Fusion (Toronto, Canada).\n\
 n@ Woodminster Amphitheatre, 3300 Joaquin Miller Road\nOakland, CA 946
 02\nTIME:\nDoors open at 12:00pm\nADM:\n$30 Advance $35 @ the door $45
  VIP (inc. parking)\nhttp://www.jumbiproductions.com\n\nFor more infor
 mation visit https://trueskool.com/events/islands-in-the-park-feat-thi
 rd
DTSTART;TZID=America/Los_Angeles:20090614T120000
DTEND;TZID=America/Los_Angeles:20090615T180000
CATEGORIES:reggae, roots, dancehall
LOCATION:Woodminster Amphitheatre, Oakland, CA
WEBSITE:http://www.jumbiproductions.com
URL:http://www.jumbiproductions.com
CONTACT:
ORGANIZER:Jumbi Productions presents
ATTACH;FMTTYPE="image/jpeg":http://storage.ning.com/topology/rest/1.0/
 file/get/2247858478?profile=original
ATTENDEE;ROLE=REQ-PARTICIPANT;PARTSTAT=ACCEPTED;RSVP=TRUE;CN="Ren the 
 Vinyl Archaeologist":https://trueskool.com/profile/xh51jvilojur
END:VEVENT
END:VCALENDAR
