BEGIN:VCALENDAR
PRODID:NingEventWidget-v1
VERSION:2.0
METHOD:PUBLISH
BEGIN:VTIMEZONE
TZID:America/Los_Angeles
X-LIC-LOCATION:America/Los_Angeles
BEGIN:DAYLIGHT
TZOFFSETFROM:-0800
TZOFFSETTO:-0700
TZNAME:PDT
DTSTART:19700308T020000
RRULE:FREQ=YEARLY;BYMONTH=3;BYDAY=2SU
END:DAYLIGHT
BEGIN:STANDARD
TZOFFSETFROM:-0700
TZOFFSETTO:-0800
TZNAME:PST
DTSTART:19701101T020000
RRULE:FREQ=YEARLY;BYMONTH=11;BYDAY=1SU
END:STANDARD
END:VTIMEZONE
BEGIN:VEVENT
UID:1464587:Event:826986
DTSTAMP:20260421T122843Z
SUMMARY:Isaiah Rashad
DESCRIPTION:Isaiah Rashad\r\nFri • Feb 02 • 8:00 PM\r\nThe Masonic
  1111 California St, San Francisco, CA 94108\n\nFor more information v
 isit https://trueskool.com/events/isaiah-rashad
DTSTART;TZID=America/Los_Angeles:20240202T200000
DTEND;TZID=America/Los_Angeles:20240202T230000
CATEGORIES:"bay area", oakland, "san francisco", "san jose", berkeley
LOCATION:The Masonic
WEBSITE:https://concerts.livenation.com/isaiah-rashad-cilvia-demo-10-y
 ear-san-francisco-california-02-02-2024/event/1C005F8615B8609A?_gl=1*l
 pp6v8*_ga*MTk5NTU2MjY4NC4xNzA1NTIzMjUx*_ga_H1KKSGW33X*MTcwNTUyMzI1NC4x
 LjEuMTcwNTUyNDc1Ni4wLjAuMA..&amp;_ga=2.238674946.304192351.1705523254-
 1995562684.1705523251
URL:https://concerts.livenation.com/isaiah-rashad-cilvia-demo-10-year-
 san-francisco-california-02-02-2024/event/1C005F8615B8609A?_gl=1*lpp6v
 8*_ga*MTk5NTU2MjY4NC4xNzA1NTIzMjUx*_ga_H1KKSGW33X*MTcwNTUyMzI1NC4xLjEu
 MTcwNTUyNDc1Ni4wLjAuMA..&amp;_ga=2.238674946.304192351.1705523254-1995
 562684.1705523251
CONTACT:
ORGANIZER;CN="Editor's Pick":https://trueskool.com/profile/RentheVinyl
 Archaeologist
ATTACH;FMTTYPE="image/jpeg":https://storage.ning.com/topology/rest/1.0
 /file/get/12360566259?profile=original
ATTENDEE;ROLE=REQ-PARTICIPANT;PARTSTAT=ACCEPTED;RSVP=TRUE;CN="Editor's
  Pick":https://trueskool.com/profile/RentheVinylArchaeologist
END:VEVENT
END:VCALENDAR
